BEGIN:VCALENDAR
VERSION:2.0
PRODID:-//ChamberMaster//Event Calendar 2.0//EN
METHOD:PUBLISH
X-PUBLISHED-TTL:P3D
REFRESH-INTERVAL:P3D
CALSCALE:GREGORIAN
BEGIN:VEVENT
DTSTART:20190711T220000Z
DTEND:20190712T000000Z
X-MICROSOFT-CDO-ALLDAYEVENT:FALSE
SUMMARY:Boerne After 5 Mixer - Presented by Fair Oaks Ranch Golf & Country Club
DESCRIPTION:Come mix and mingle with your fellow Boerne Chamber Members at a Boerne After 5 Mixer\, presented by Fair Oaks Ranch Golf & Country Club!
X-ALT-DESC;FMTTYPE=text/html:Come mix and mingle with your fellow Boerne Chamber Members at a Boerne After 5 Mixer\, presented by <a href="https://business.boerne.org/list/member/fair-oaks-ranch-golf-country-club-320">Fair Oaks Ranch Golf &amp\; Country Club</a>!
LOCATION:Fair Oaks Ranch Golf & Country Club 7900 Fair Oaks Parkway Fair Oaks Ranch\, TX 78015
UID:e.187.15562
SEQUENCE:3
DTSTAMP:20260419T161354Z
URL:https://business.boerne.org/events/details/boerne-after-5-mixer-presented-by-fair-oaks-ranch-golf-country-club-15562
END:VEVENT

END:VCALENDAR
