BEGIN:VCALENDAR
VERSION:2.0
PRODID:-//ChamberMaster//Event Calendar 2.0//EN
METHOD:PUBLISH
X-PUBLISHED-TTL:P3D
REFRESH-INTERVAL:P3D
CALSCALE:GREGORIAN
BEGIN:VEVENT
DTSTART:20240924T140000Z
DTEND:20240924T150000Z
X-MICROSOFT-CDO-ALLDAYEVENT:FALSE
SUMMARY:Workshop: Where Do I Start - I Want/Need to Grow My Business
DESCRIPTION:Join us for an educational workshop featuring Center for Excellence\, where Terry Latham will be presenting "Where Do I Start - I Want/Need to Grow My Business". \n\n\n\nStarting a business can be exciting! But let's face it - it can be a little scary and overwhelming trying to figure out where to start and how to grow your business. If you are looking for real life\, proven techniques for growing your business you will want to attend our workshop. Information is powerful and you will walk away with resources that will up your game\, provide results that will help you turn your passion into profits.\n\n\n\nThe event cost is $10 for members and $35 for non-members. Registration fee is non-refundable.\n\nRSVP is required due to space limitations.\n\n\n\nBreakfast and coffee will be served. Please bring your own materials to take notes!\n\n\n\nPlease email Steely at steely@boerne.org if you have any questions!
X-ALT-DESC;FMTTYPE=text/html:Join us for an educational workshop featuring <a href="https://business.boerne.org/list/member/center-for-excellence-24308">Center for Excellence\,</a>&nbsp\;where Terry Latham will be presenting &quot\;Where Do I Start - I Want/Need to Grow My Business&quot\;.&nbsp\;<br />\n<br />\n<span style="font-size:12px\;"><span style="font-family:arial\;"><span style="color:black\;">Starting a business can be exciting! But let&#39\;s face it - it can be a little scary and overwhelming trying to figure out where to start and how to grow your business. If you are looking for real life\, proven techniques for growing your business you will want to attend our workshop. Information is powerful and you will walk away with resources that will up your game\, provide results that will help you turn your passion into profits.</span></span></span><br />\n<br />\nThe event cost is $10 for members and $35 for non-members. Registration fee is non-refundable.<br />\nRSVP is required due to space limitations.<br />\n<br />\nBreakfast and coffee will be served. Please bring your own materials to take notes!<br />\n<br />\nPlease email Steely at steely@boerne.org if you have any questions!
LOCATION:Greater Boerne Chamber of Commerce Boardroom 121 S. Main St. Boerne\, TX 78006
UID:e.187.28497
SEQUENCE:3
DTSTAMP:20260419T181613Z
URL:https://business.boerne.org/events/details/workshop-where-do-i-start-i-want-need-to-grow-my-business-28497
END:VEVENT

END:VCALENDAR
