BEGIN:VCALENDAR
VERSION:2.0
PRODID:-//ChamberMaster//Event Calendar 2.0//EN
METHOD:PUBLISH
X-PUBLISHED-TTL:P3D
REFRESH-INTERVAL:P3D
CALSCALE:GREGORIAN
BEGIN:VEVENT
DTSTART:20250610T140000Z
DTEND:20250610T150000Z
X-MICROSOFT-CDO-ALLDAYEVENT:FALSE
SUMMARY:Workshop: The Role of Trusts and LLCs as Asset Protection Tools
DESCRIPTION:Join us for an educational workshop featuring Shawn Lovorn from Lovorn Law Firm where he will be presenting "The Role of Trusts and LLCs as Asset Protection Tools". \n\n\n\nThe event cost is $10 for members and $35 for non-members. Registration fee is non-refundable.\n\nRSVP is required due to space limitations.\n\n\n\nBreakfast and coffee will be served. Please bring your own materials to take notes!\n\n\n\nPlease email Steely at steely@boerne.org if you have any questions!
X-ALT-DESC;FMTTYPE=text/html:<span style="color:#000000\;">Join us for an educational workshop featuring Shawn Lovorn from Lovorn Law Firm where he will be presenting &quot\;The Role of Trusts and LLCs as Asset Protection Tools&quot\;.&nbsp\;<br />\n<br />\nThe event cost is $10 for members and $35 for non-members. Registration fee is non-refundable.<br />\nRSVP is required due to space limitations.<br />\n<br />\nBreakfast and coffee will be served. Please bring your own materials to take notes!<br />\n<br />\nPlease email Steely at steely@boerne.org if you have any questions!</span>
LOCATION:Greater Boerne Chamber of Commerce Boardroom 121 S. Main St. Boerne\, TX 78006
UID:e.187.29849
SEQUENCE:3
DTSTAMP:20260422T195443Z
URL:https://business.boerne.org/events/details/workshop-the-role-of-trusts-and-llcs-as-asset-protection-tools-29849
END:VEVENT

END:VCALENDAR
