BEGIN:VCALENDAR
VERSION:2.0
PRODID:-//ChamberMaster//Event Calendar 2.0//EN
METHOD:PUBLISH
X-PUBLISHED-TTL:P3D
REFRESH-INTERVAL:P3D
CALSCALE:GREGORIAN
BEGIN:VEVENT
DTSTART:20251217T150000Z
DTEND:20251217T160000Z
X-MICROSOFT-CDO-ALLDAYEVENT:FALSE
SUMMARY:Workshop: The Impact of "Overwhelm" on Productivity... (And What To Do About It)
DESCRIPTION:Join us for an educational workshop featuring Trisha Walker\, LCSW-S from Psychotherapy with Hope where she will be presenting "The Impact of "Overwhelm" on Productivity... (And What To Do About It).\n\n\n\nIf you feel like there is too much on your plate\, not sure how to balance it all\, you feel guilty saying "no"\, and you realize you can't get it all done... then this talk is for you! . This presentation is designed to support\, encourage\, and strengthen professionals who find themselves living in a constant state of "overwhelm."\n\n\n\nWe'll take an honest look at the pressures and expectations that often exceed our capacity   whether they come from others or from within ourselves. You'll walk away feeling refreshed\, equipped\, and encouraged with practical tools and mindset strategies from a licensed psychotherapist who has spent decades helping high-achieving clients thrive in a demanding world.\n\n\n\nJoin us to reconnect with balance\, clarity\, and confidence   so you can lead and live with greater peace.\n\n\n\n\n\nThe event cost is $10 for members and $35 for non-members. Registration fee is non-refundable.\n\nRSVP is required due to space limitations.\n\n\n\nBreakfast and coffee will be served. Please bring your own materials to take notes!\n\n\n\nPlease email Steely at steely@boerne.org if you have any questions!
X-ALT-DESC;FMTTYPE=text/html:<span style="color:#000000\;">Join us for an educational workshop featuring Trisha Walker\, LCSW-S from </span><a href="https://business.boerne.org/list/member/psychotherapy-with-hope-24536"><span style="color:#000000\;">Psychotherapy with Hope</span></a><span style="color:#000000\;"> where she will be presenting &quot\;The Impact of &quot\;Overwhelm&quot\; on Productivity... (And What To Do About It).<br />\n<br />\nIf you feel like there is too much on your plate\, not sure how to balance it all\, you feel guilty saying &quot\;no&quot\;\, and you realize you can&#39\;t get it all done... then this talk is for you! . This presentation is designed to <strong>support\, encourage\, and strengthen professionals</strong>&nbsp\;who find themselves living in a constant state of &ldquo\;overwhelm.&rdquo\;<br />\n<br />\nWe&rsquo\;ll take an honest look at the pressures and expectations that often exceed our capacity &mdash\; whether they come from others or from within ourselves. You&rsquo\;ll walk away feeling <strong>refreshed\, equipped\, and encouraged</strong>&nbsp\;with practical tools and mindset strategies from a licensed psychotherapist who has spent decades helping high-achieving clients thrive in a demanding world.<br />\n<br />\n<strong>Join us to reconnect with balance\, clarity\, and confidence &mdash\; so you can lead and live with greater peace.</strong><br />\n<br />\n<br />\nThe event cost is $10 for members and $35 for non-members. Registration fee is non-refundable.<br />\nRSVP is required due to space limitations.<br />\n<br />\nBreakfast and coffee will be served. Please bring your own materials to take notes!<br />\n<br />\nPlease email Steely at steely@boerne.org if you have any questions!</span>
LOCATION:Greater Boerne Chamber of Commerce Boardroom 121 S. Main St. Boerne\, TX 78006
UID:e.187.31951
SEQUENCE:3
DTSTAMP:20260420T020823Z
URL:https://business.boerne.org/events/details/workshop-the-impact-of-overwhelm-on-productivity-and-what-to-do-about-it-31951
END:VEVENT

END:VCALENDAR
