BEGIN:VCALENDAR
VERSION:2.0
PRODID:-//ChamberMaster//Event Calendar 2.0//EN
METHOD:PUBLISH
X-PUBLISHED-TTL:P3D
REFRESH-INTERVAL:P3D
CALSCALE:GREGORIAN
BEGIN:VEVENT
DTSTART:20241018T140000Z
DTEND:20241018T150000Z
X-MICROSOFT-CDO-ALLDAYEVENT:FALSE
SUMMARY:Workshop: Powerhouse Potential
DESCRIPTION:Join us for an educational workshop featuring Genesis Counseling Center\, where they will be presenting "Powerhouse Potential". \n\n\n\nAttendees will learn how to leverage attachment theory to maximize professional potential for yourself and employees.\n\n\n\nThe event cost is $10 for members and $35 for non-members. Registration fee is non-refundable.\n\nRSVP is required due to space limitations.\n\n\n\nBreakfast and coffee will be served. Please bring your own materials to take notes!\n\n\n\nPlease email Steely at steely@boerne.org if you have any questions!
X-ALT-DESC;FMTTYPE=text/html:<span style="color:#000000\;">Join us for an educational workshop featuring </span><u><a href="https://business.boerne.org/list/member/genesis-counseling-center-inc-24089"><span style="color:#000000\;">Genesis Counseling Center</span></a></u><span style="color:#000000\;">\, where they will be presenting &quot\;Powerhouse Potential&quot\;.&nbsp\;<br />\n<br />\nAttendees will learn how to leverage attachment theory to maximize professional potential for yourself and employees.<br />\n<br />\nThe event cost is $10 for members and $35 for non-members. Registration fee is non-refundable.<br />\nRSVP is required due to space limitations.<br />\n<br />\nBreakfast and coffee will be served. Please bring your own materials to take notes!<br />\n<br />\nPlease email Steely at steely@boerne.org if you have any questions!</span>
LOCATION:Greater Boerne Chamber of Commerce Boardroom 121 S. Main St. Boerne\, TX 78006
UID:e.187.28695
SEQUENCE:3
DTSTAMP:20260419T162442Z
URL:https://business.boerne.org/events/details/workshop-powerhouse-potential-28695
END:VEVENT

END:VCALENDAR
