BEGIN:VCALENDAR
VERSION:2.0
PRODID:-//ChamberMaster//Event Calendar 2.0//EN
METHOD:PUBLISH
X-PUBLISHED-TTL:P3D
REFRESH-INTERVAL:P3D
CALSCALE:GREGORIAN
BEGIN:VEVENT
DTSTART:20230327T140000Z
DTEND:20230327T150000Z
X-MICROSOFT-CDO-ALLDAYEVENT:FALSE
SUMMARY:Workshop: Mental Health in the Workplace
DESCRIPTION:Join us for an educational workshop featuring Trellis Counseling & Co.\, where they will be presenting "Mental Health in the Workplace". Trellis Counseling & Co. believes in using evidence-based interventions\, innovative research\, and compassionate support in the raw to weave together a trellis for your wellness. To learn more about Gillian and her services\, click here.\n\n\n\nThe event cost is $10 for members and $35 for non-members. Registration fee is non-refundable.\n\nRSVP is required due to space limitations.\n\n\n\nBreakfast and coffee will be served. Please bring your own materials to take notes!\n\n\n\nPlease email Steely at steely@boerne.org if you have any questions!
X-ALT-DESC;FMTTYPE=text/html:Join us for an educational workshop featuring Trellis Counseling &amp\; Co.\, where they will be presenting &quot\;Mental Health in the Workplace&quot\;. Trellis Counseling &amp\; Co. believes in using evidence-based interventions\, innovative research\, and compassionate support in the raw to weave together a trellis for your wellness. To learn more about Gillian and her services\, <a href="https://www.trelliscounselingco.com/">click here.</a><br />\n<br />\nThe event cost is $10 for members and $35 for non-members. Registration fee is non-refundable.<br />\nRSVP is required due to space limitations.<br />\n<br />\nBreakfast and coffee will be served. Please bring your own materials to take notes!<br />\n<br />\nPlease email Steely at <a href="mailto:steely@boerne.org">steely@boerne.org</a> if you have any questions!
LOCATION:Greater Boerne Chamber of Commerce Boardroom 121 S. Main St. Boerne\, TX 78006
UID:e.187.21420
SEQUENCE:3
DTSTAMP:20260423T101755Z
URL:https://business.boerne.org/events/details/workshop-mental-health-in-the-workplace-21420
END:VEVENT

END:VCALENDAR
