BEGIN:VCALENDAR
VERSION:2.0
PRODID:-//ChamberMaster//Event Calendar 2.0//EN
METHOD:PUBLISH
X-PUBLISHED-TTL:P3D
REFRESH-INTERVAL:P3D
CALSCALE:GREGORIAN
BEGIN:VEVENT
DTSTART:20181113T143000Z
DTEND:20181113T153000Z
X-MICROSOFT-CDO-ALLDAYEVENT:FALSE
SUMMARY:WORKSHOP: Creating a Success Culture in Your Business and Personal Life - Presented by Texas Business Buyers
DESCRIPTION:Making positive change in an organization or your personal life is a process and it takes time to move to health. Organizations and people often get stuck in harmful patterns and often do not know how to get out. So many people I speak with know the issues they face but struggle to get a plan for growth. As we get ready to close out the end of 2018 this is a great time to reflect on the year and to take stock and develop a plan for growth.  \n\n\n\nIn this meeting we will:\n\n	Discuss essential things you need in your business and personal life to implement change\n	Review some tools you can use to evaluate your year and how to move forward.\n	Introduce both SWOT and GAP Analysis and how to use for improvement\n	Discuss how to set up a plan for you and your team for growth in 2019\n\n \n\nYou will take away information you can implement. Breakfast and coffee will be served.\n\n \n\nThis will be the last workshop for 2018 and we will begin workshops again in February 2019.\n\n \n\nPresenter\n\nRobert Upton is the founder of SimpleWorks Business Advisors a consulting company that focuses on building healthy culture and follows a systematic approach to business growth. SimpleWorks focuses on 3 key goals: Build a Great Team\, Maximize Business Value\, and Reap the Rewards.\n\n \n\nRobert also works with Texas Business Buyers\, a business brokerage company that connects sellers with buyers for their business.   The team has 96% success record in selling healthy businesses they have represented\, for 98.5% of asking price\n\n \n\nHe has owned 3 small businesses and has management and sales background in real estate\, B2B service companies\, and nonprofit.  He has consulted businesses from a large variety of industries over the last decade.
X-ALT-DESC;FMTTYPE=text/html:<span style="font-family:arial\,sans-serif\;">Making positive change in an organization or your personal life is a process and it takes time to move to health. Organizations and people often get stuck in harmful patterns and often do not know how to get out.&nbsp\;So many people I speak with know the issues they face but struggle to get a plan for growth. As we get ready to close out the end of 2018 this is a great time to reflect on the year and to take stock and develop a plan for growth. &nbsp\;</span><br />\n<br />\n<span style="font-family:arial\,sans-serif\;">In this meeting we will:</span>\n<ul>\n	<li style="margin-top:0in\;margin-bottom:0in\;margin-bottom:.0001pt\;vertical-align:baseline\;font-variant-ligatures:normal\;font-variant-east-asian:normal\;white-space:pre-wrap\;"><span style="font-family:arial\,sans-serif\;">Discuss essential things you need in your business and personal life to implement change</span></li>\n	<li style="margin-top:0in\;margin-bottom:0in\;margin-bottom:.0001pt\;vertical-align:baseline\;font-variant-ligatures:normal\;font-variant-east-asian:normal\;white-space:pre-wrap\;"><span style="font-family:arial\,sans-serif\;">Review some tools you can use to evaluate your year and how to move forward.</span></li>\n	<li style="margin-top:0in\;margin-bottom:0in\;margin-bottom:.0001pt\;vertical-align:baseline\;font-variant-ligatures:normal\;font-variant-east-asian:normal\;white-space:pre-wrap\;"><span style="font-family:arial\,sans-serif\;">Introduce both SWOT and GAP Analysis and how to use for improvement</span></li>\n	<li style="margin-top:0in\;margin-bottom:0in\;margin-bottom:.0001pt\;vertical-align:baseline\;font-variant-ligatures:normal\;font-variant-east-asian:normal\;white-space:pre-wrap\;"><span style="font-family:arial\,sans-serif\;">Discuss how to set up a plan for you and your team for growth in 2019</span></li>\n</ul>\n&nbsp\;<br />\n<span style="font-family:arial\,sans-serif\;">You will take away information you can implement. Breakfast and coffee will be served.</span><br />\n&nbsp\;<br />\n<span style="font-family:arial\,sans-serif\;">This will be the last workshop for 2018 and we will begin workshops again in February 2019.</span><br />\n&nbsp\;<br />\n<span style="font-family:arial\,sans-serif\;">Presenter</span><br />\n<span style="font-family:arial\,sans-serif\;">Robert Upton is the founder of SimpleWorks Business Advisors a consulting company that focuses on building healthy culture and follows a systematic approach to business growth. SimpleWorks focuses on 3 key goals: Build a Great Team\, Maximize Business Value\, and Reap the Rewards.</span><br />\n&nbsp\;<br />\n<span style="font-family:arial\,sans-serif\;">Robert also works with Texas Business Buyers\, a business brokerage company that connects sellers with buyers for their business. &nbsp\;&nbsp\;The team has 96% success record in selling healthy businesses they have represented\, for 98.5% of asking price</span><br />\n&nbsp\;<br />\n<span style="font-family:arial\,sans-serif\;">He has owned 3 small businesses and has management and sales background in real estate\, B2B service companies\, and nonprofit.&nbsp\; He has consulted businesses from a large variety of industries over the last decade. </span><br />\n&nbsp\;
LOCATION:Boerne Chamber of Commerce Boardroom 121 S. Main St. Boerne\, TX 78006
UID:e.187.12031
SEQUENCE:3
DTSTAMP:20260420T014023Z
URL:https://business.boerne.org/events/details/workshop-creating-a-success-culture-in-your-business-and-personal-life-presented-by-texas-business-buyers-12031
END:VEVENT

END:VCALENDAR
