BEGIN:VCALENDAR
VERSION:2.0
PRODID:-//ChamberMaster//Event Calendar 2.0//EN
METHOD:PUBLISH
X-PUBLISHED-TTL:P3D
REFRESH-INTERVAL:P3D
CALSCALE:GREGORIAN
BEGIN:VEVENT
DTSTART:20180907T133000Z
DTEND:20180907T143000Z
X-MICROSOFT-CDO-ALLDAYEVENT:FALSE
SUMMARY:Workshop: Combating Stress as a Business Owner
DESCRIPTION:If you're living with high levels of stress\, you're putting your entire well-being at risk. Stress creates havoc on your emotional equilibrium\, as well as your physical health. It narrows your ability to think clearly\, function effectively\, and enjoy life. This workshop will provide you with tips to staying healthy and combating stressors to your body that can get you down.  Dr. Grasso will also cover the different aspects of health that interfere with handling daily stressors including food sensitivities\, hormone imbalance\, nutrient deficiencies\, mental decompression\, and physical health.\n\nPresented by: Dr. Leigh Ann Grasso\, RPH\n\nOwner/Pharmacist\, Annie's Apothecary
X-ALT-DESC;FMTTYPE=text/html:If you&rsquo\;re living with high levels of stress\, you&rsquo\;re putting your entire well-being at risk. Stress creates havoc on your emotional equilibrium\, as well as your physical health. It narrows your ability to think clearly\, function effectively\, and enjoy life. This workshop will provide you with tips to staying healthy and combating stressors to your body that can get you down.&nbsp\; Dr. Grasso will also cover the different aspects of health that interfere with handling daily stressors including food sensitivities\, hormone imbalance\, nutrient deficiencies\, mental decompression\, and physical health.<br />\nPresented by: Dr. Leigh Ann Grasso\, RPH<br />\nOwner/Pharmacist\, Annie&rsquo\;s Apothecary<br />\n&nbsp\;
LOCATION:Greater Boerne Chamber of Commerce.
UID:e.187.14257
SEQUENCE:3
DTSTAMP:20260420T042002Z
URL:https://business.boerne.org/events/details/workshop-combating-stress-as-a-business-owner-14257
END:VEVENT

END:VCALENDAR
