BEGIN:VCALENDAR
VERSION:2.0
PRODID:-//ChamberMaster//Event Calendar 2.0//EN
METHOD:PUBLISH
X-PUBLISHED-TTL:P3D
REFRESH-INTERVAL:P3D
CALSCALE:GREGORIAN
BEGIN:VEVENT
DTSTART:20171005T220000Z
DTEND:20171006T000000Z
X-MICROSOFT-CDO-ALLDAYEVENT:FALSE
SUMMARY:Wild Game Dinner Kickoff Mixer - sponsored by the Kendall County YAEC
DESCRIPTION:Come mix and mingle at the kickoff mixer for the Wild Game Dinner. For more information on the Wild Game Dinner visit:\n\n \nwww.kcyaec.org  \n\nhttps://www.facebook.com/kcyaec/
X-ALT-DESC;FMTTYPE=text/html:Come mix and mingle at the kickoff mixer for the Wild Game Dinner. For more information on the Wild Game Dinner visit:<br />\n&nbsp\;\n<p><a href="http://www.kcyaec.org">www.kcyaec.org</a>&nbsp\; <o:p></o:p></p>\n\n<p><a href="https://www.facebook.com/kcyaec/">https://www.facebook.com/kcyaec/</a><o:p></o:p></p>\n
LOCATION:Kendall County Youth Agriculture & Equestrian Center 648 FM 289 Comfort\, TX 78013
UID:e.187.11403
SEQUENCE:3
DTSTAMP:20260422T213247Z
URL:https://business.boerne.org/events/details/wild-game-dinner-kickoff-mixer-sponsored-by-the-kendall-county-yaec-11403
END:VEVENT

END:VCALENDAR
