BEGIN:VCALENDAR
VERSION:2.0
PRODID:-//ChamberMaster//Event Calendar 2.0//EN
METHOD:PUBLISH
X-PUBLISHED-TTL:P3D
REFRESH-INTERVAL:P3D
CALSCALE:GREGORIAN
BEGIN:VEVENT
DTSTART:20180328T133500Z
DTEND:20180329T042500Z
X-MICROSOFT-CDO-ALLDAYEVENT:FALSE
SUMMARY:Wednesday 8:36 am - 11-22 am Shift Membership Campaign
DESCRIPTION:Wednesday 8:36-11:22 Final Shift for Membership Campaign
X-ALT-DESC;FMTTYPE=text/html:Wednesday 8:36-11:22 Final Shift for Membership Campaign
LOCATION:Morningside Ministries at Menger Springs 1100 Grand Blvd. Boerne\, TX 78006
UID:e.187.13631
SEQUENCE:3
DTSTAMP:20260422T120804Z
URL:https://business.boerne.org/events/details/wednesday-8-36-am-11-22-am-shift-membership-campaign-13631
END:VEVENT

END:VCALENDAR
