BEGIN:VCALENDAR
VERSION:2.0
PRODID:-//ChamberMaster//Event Calendar 2.0//EN
METHOD:PUBLISH
X-PUBLISHED-TTL:P3D
REFRESH-INTERVAL:P3D
CALSCALE:GREGORIAN
BEGIN:VEVENT
DTSTART:20190823T150000Z
DTEND:20190823T160000Z
X-MICROSOFT-CDO-ALLDAYEVENT:FALSE
SUMMARY:Veterans & Military Business Committee
DESCRIPTION:Veterans & Military Business Committee Meeting
X-ALT-DESC;FMTTYPE=text/html:Veterans &amp\; Military Business Committee Meeting
LOCATION:Boerne Chamber of Commerce Conference Room 121 S. Main St.\, Boerne\, TX 78006
UID:e.187.16717
SEQUENCE:3
DTSTAMP:20260419T174327Z
URL:https://business.boerne.org/events/details/veterans-military-business-committee-16717
END:VEVENT

END:VCALENDAR
