BEGIN:VCALENDAR
VERSION:2.0
PRODID:-//ChamberMaster//Event Calendar 2.0//EN
METHOD:PUBLISH
X-PUBLISHED-TTL:P3D
REFRESH-INTERVAL:P3D
CALSCALE:GREGORIAN
BEGIN:VEVENT
DTSTART:20191206T163000Z
DTEND:20191206T200000Z
X-MICROSOFT-CDO-ALLDAYEVENT:FALSE
SUMMARY:Veterans in Business Seminar
DESCRIPTION:Are you a Veteran looking to take your business to the next level or start a new business? Do you want to partner with a Veteran-owned company but aren't sure how? Join us for a Veterans in Business Seminar at Hampton Inn & Suites Boerne!\n\n\n\nWhile attending\, expect to network with community partners that will assist you with starting and running a Veteran-owned business. Get more information on how to do business with the government\, business start-up benefits\, grants and more.
X-ALT-DESC;FMTTYPE=text/html:Are you a Veteran looking to take your business to the next level or start a new business? Do you want to partner with a Veteran-owned company but aren&rsquo\;t sure how? Join us for a Veterans in Business Seminar at <a href="https://business.boerne.org/list/member/hampton-inn-suites-at-boerne-5200">Hampton Inn &amp\; Suites Boerne</a>!<br />\n<br />\nWhile attending\, expect to network with community partners that will assist you with starting and running a Veteran-owned business. Get more information on how to do business with the government\, business start-up benefits\, grants and more.
LOCATION:Hampton Inn & Suites Boerne 34935 IH-10 West Boerne\, TX 78006
UID:e.187.16797
SEQUENCE:3
DTSTAMP:20260425T215001Z
URL:https://business.boerne.org/events/details/veterans-in-business-seminar-16797
END:VEVENT

END:VCALENDAR
