BEGIN:VCALENDAR
VERSION:2.0
PRODID:-//ChamberMaster//Event Calendar 2.0//EN
METHOD:PUBLISH
X-PUBLISHED-TTL:P3D
REFRESH-INTERVAL:P3D
CALSCALE:GREGORIAN
BEGIN:VEVENT
DTSTART:20190412T150000Z
DTEND:20190412T160000Z
X-MICROSOFT-CDO-ALLDAYEVENT:FALSE
SUMMARY:Veterans Committee Meeting
DESCRIPTION:Veteran's Business Committee Meeting
X-ALT-DESC;FMTTYPE=text/html:Veteran&#39\;s Business Committee Meeting
LOCATION:Boerne Chamber of Commerce
UID:e.187.16326
SEQUENCE:3
DTSTAMP:20260419T160806Z
URL:https://business.boerne.org/events/details/veterans-committee-meeting-16326
END:VEVENT

END:VCALENDAR
