BEGIN:VCALENDAR
VERSION:2.0
PRODID:-//ChamberMaster//Event Calendar 2.0//EN
METHOD:PUBLISH
X-PUBLISHED-TTL:P3D
REFRESH-INTERVAL:P3D
CALSCALE:GREGORIAN
BEGIN:VEVENT
DTSTART:20240920T200000Z
DTEND:20240920T210000Z
X-MICROSOFT-CDO-ALLDAYEVENT:FALSE
SUMMARY:UNDERSTANDING PROPERTY TAXES in the TEXAS HILL COUNTRY
DESCRIPTION:Friday\, September 20th\n\n3:00 PM   4:00 PM \n\nUNDERSTANDING PROPERTY TAXES in the TEXAS HILL COUNTRY\n\nPresented by Prickly Pair\n\nLearn more about the complexities of the property tax system\, exemptions\, resources\, and how to advocate for yourself and your properties. This session is ideal for any property owner in the Texas Hill Country looking for more information. This event is free and open to the community.\n\nPlease RSVP HERE.
X-ALT-DESC;FMTTYPE=text/html:Friday\, September 20th<br />\n3:00 PM &ndash\; 4:00 PM&nbsp\;<br />\n<strong>UNDERSTANDING PROPERTY TAXES in the TEXAS HILL COUNTRY</strong><br />\n<em>Presented by Prickly Pair</em><br />\nLearn more about the complexities of the property tax system\, exemptions\, resources\, and how to advocate for yourself and your properties. This session is ideal for any property owner in the Texas Hill Country looking for more information. This event is free and open to the community.<br />\n<a href="https://forms.gle/HGNtxXwb9urvi9La9" style="color:rgb(0\, 120\, 215)\;" title="https://forms.gle/HGNtxXwb9urvi9La9">Please RSVP HERE.</a>
LOCATION:Das GreenHaus 7 Upper Balcones Boerne\, Texas 78006
UID:e.187.28641
SEQUENCE:3
DTSTAMP:20260419T210854Z
URL:https://business.boerne.org/events/details/understanding-property-taxes-in-the-texas-hill-country-28641
END:VEVENT

END:VCALENDAR
