BEGIN:VCALENDAR
VERSION:2.0
PRODID:-//ChamberMaster//Event Calendar 2.0//EN
METHOD:PUBLISH
X-PUBLISHED-TTL:P3D
REFRESH-INTERVAL:P3D
CALSCALE:GREGORIAN
BEGIN:VEVENT
DTSTART:20240918T160000Z
DTEND:20240918T173000Z
X-MICROSOFT-CDO-ALLDAYEVENT:FALSE
SUMMARY:TWO PERSPECTIVES ON LEADERSHIP ROI
DESCRIPTION:Wednesday\, September 18th\n\n11:00 AM   12:30 PM\n\n\n\nTWO PERSPECTIVES ON LEADERSHIP ROI and Understanding the Importance of Both \n\nPresented By Tenice Wehmeyer\, PCC\n\nAs a leader\, your actions and words significantly impact those around you. By recognizing and addressing potential issues\, you can transform your leadership journey into one of success. Investing in leaders provides a strategic competitive advantage. This keynote will help you create impactful Ripples of Influence (ROI) and achieve a meaningful Return on Investment (ROI)\, optimizing both the people and financial aspects of your organization.\n\n\n\nThis workshop is free and open to the community. Lunch will be provided. \n\nPlease RSVP HERE.
X-ALT-DESC;FMTTYPE=text/html:Wednesday\, September 18th<br />\n11:00 AM &ndash\; 12:30 PM<br />\n<br />\n<strong>TWO PERSPECTIVES ON LEADERSHIP ROI&nbsp\;</strong><em>and&nbsp\;Understanding the Importance of Both</em>&nbsp\;<br />\n<em>Presented By Tenice Wehmeyer\, PCC</em><br />\nAs a leader\, your actions and words&nbsp\;significantly impact those around you. By recognizing and addressing potential issues\, you can transform your leadership journey into one of success. Investing in leaders provides a strategic competitive advantage. This keynote will help you create impactful Ripples of Influence (ROI) and achieve a meaningful Return on Investment (ROI)\, optimizing both the people and financial aspects of your organization.<br />\n<br />\nThis workshop is free and open to the community. Lunch will be provided.&nbsp\;<br />\n<a href="https://forms.gle/aHSK9fVHKFnu1PNb7" style="color:rgb(0\, 120\, 215)\;" title="https://forms.gle/aHSK9fVHKFnu1PNb7">Please RSVP HERE</a>.
LOCATION:Das GreenHaus 7 Upper Balcones Boerne\, TX 78006
UID:e.187.28640
SEQUENCE:3
DTSTAMP:20260419T180914Z
URL:https://business.boerne.org/events/details/two-perspectives-on-leadership-roi-28640
END:VEVENT

END:VCALENDAR
