BEGIN:VCALENDAR
VERSION:2.0
PRODID:-//ChamberMaster//Event Calendar 2.0//EN
METHOD:PUBLISH
X-PUBLISHED-TTL:P3D
REFRESH-INTERVAL:P3D
CALSCALE:GREGORIAN
BEGIN:VEVENT
DTSTART:20180327T133000Z
DTEND:20180327T162500Z
X-MICROSOFT-CDO-ALLDAYEVENT:FALSE
SUMMARY:Tuesday 8:36-11:22 am Shift Membership Campaign
DESCRIPTION:Tuesday 1st Shift 8:36-11:22 Membership Campaign
X-ALT-DESC;FMTTYPE=text/html:Tuesday 1st&nbsp\;Shift 8:36-11:22 Membership Campaign
LOCATION:Morningside Ministries at Menger Springs 1100 Grand Blvd. Boerne\, TX 78006
UID:e.187.13629
SEQUENCE:3
DTSTAMP:20260422T120729Z
URL:https://business.boerne.org/events/details/tuesday-8-36-11-22-am-shift-membership-campaign-13629
END:VEVENT

END:VCALENDAR
