BEGIN:VCALENDAR
VERSION:2.0
PRODID:-//ChamberMaster//Event Calendar 2.0//EN
METHOD:PUBLISH
X-PUBLISHED-TTL:P3D
REFRESH-INTERVAL:P3D
CALSCALE:GREGORIAN
BEGIN:VEVENT
DTSTART:20180327T181500Z
DTEND:20180327T210500Z
X-MICROSOFT-CDO-ALLDAYEVENT:FALSE
SUMMARY:Tuesday 1:16 pm -4:03 pm 2nd Shift Membership Campaign
DESCRIPTION:Tuesday 2nd Shift  1:16 pm - 4:03 pm for Membership Campaign
X-ALT-DESC;FMTTYPE=text/html:Tuesday 2nd Shift&nbsp\; 1:16 pm - 4:03 pm for Membership Campaign&nbsp\;
LOCATION:Morningside Ministries at Menger Springs 1100 Grand Blvd. Boerne\, TX 78006
UID:e.187.13630
SEQUENCE:3
DTSTAMP:20260422T120723Z
URL:https://business.boerne.org/events/details/tuesday-1-16-pm-4-03-pm-2nd-shift-membership-campaign-13630
END:VEVENT

END:VCALENDAR
