BEGIN:VCALENDAR
VERSION:2.0
PRODID:-//ChamberMaster//Event Calendar 2.0//EN
METHOD:PUBLISH
X-PUBLISHED-TTL:P3D
REFRESH-INTERVAL:P3D
CALSCALE:GREGORIAN
BEGIN:VEVENT
DTSTART:20230121T233000Z
DTEND:20230122T040000Z
X-MICROSOFT-CDO-ALLDAYEVENT:FALSE
SUMMARY:The Rotary Club of Boerne's Casino Night
DESCRIPTION:The Rotary Club of Boerne's Annual Casino Night is coming up on Saturday\, January 21st! 100% off funds raised go to local and international non-profits. It's time to have fun and help others! Purchase your tickets today by going to www.boernerotary.org!
X-ALT-DESC;FMTTYPE=text/html:The Rotary Club of Boerne&#39\;s Annual Casino Night is coming up on Saturday\, January 21st! 100% off funds raised go to local and international non-profits. It&#39\;s time to have fun and help others! Purchase your tickets today by going to www.boernerotary.org!&nbsp\;
LOCATION:Mark Motors 140 Enterprise Pkwy Boerne\, TX 78006
UID:e.187.20736
SEQUENCE:3
DTSTAMP:20260423T071917Z
URL:https://business.boerne.org/events/details/the-rotary-club-of-boerne-s-casino-night-20736
END:VEVENT

END:VCALENDAR
