BEGIN:VCALENDAR
VERSION:2.0
PRODID:-//ChamberMaster//Event Calendar 2.0//EN
METHOD:PUBLISH
X-PUBLISHED-TTL:P3D
REFRESH-INTERVAL:P3D
CALSCALE:GREGORIAN
BEGIN:VEVENT
DTSTART:20251206T170000Z
DTEND:20251206T200000Z
X-MICROSOFT-CDO-ALLDAYEVENT:FALSE
SUMMARY:The Nutcracker High Tea
DESCRIPTION:Save the Date!   Join Hill Country Youth Orchestras for The Nutcracker High Tea on December 6\, 2025 at the Museum of Western Art in Kerrville. Enjoy holiday cheer\, music\, games\, a live auction\, and more. Don't forget to wear you're fanciest hat! \n\nIf you're interested in a table sponsorship\, please contact: development@hcyo.org\n\nAll proceeds benefit Hill Country Youth Orchestras.
X-ALT-DESC;FMTTYPE=text/html:<span style="font-family:segoe ui emoji\,sans-serif\;">&#127876\;&#10024\;</span> Save the Date! <span style="font-family:segoe ui emoji\,sans-serif\;">&#10024\;&#127876\;</span>Join Hill Country Youth Orchestras for The Nutcracker High Tea on December 6\, 2025 at the Museum of Western Art in Kerrville. Enjoy holiday cheer\, music\, games\, a live auction\, and more. Don&rsquo\;t forget to wear you&rsquo\;re fanciest hat!&nbsp\;<br />\nIf you&rsquo\;re interested in a table sponsorship\, please contact: development@hcyo.org<br />\nAll proceeds benefit Hill Country Youth Orchestras. <span style="font-family:segoe ui emoji\,sans-serif\;">&#10084\;&#65039\;</span>
LOCATION:
UID:e.187.31940
SEQUENCE:3
DTSTAMP:20260420T015004Z
URL:https://business.boerne.org/events/details/the-nutcracker-high-tea-31940
END:VEVENT

END:VCALENDAR
