BEGIN:VCALENDAR
VERSION:2.0
PRODID:-//ChamberMaster//Event Calendar 2.0//EN
METHOD:PUBLISH
X-PUBLISHED-TTL:P3D
REFRESH-INTERVAL:P3D
CALSCALE:GREGORIAN
BEGIN:VEVENT
DTSTART:20241005T150000Z
DTEND:20241005T190000Z
X-MICROSOFT-CDO-ALLDAYEVENT:FALSE
SUMMARY:The Market at Stargazer Ranch
DESCRIPTION:Stargazer Ranch is the host of a fantastic Market every 1st and 3rd Saturdays\, 10am-2pm! They invite you to come out and join them next Saturday for their next market! Come support local vendors\, enjoy live music\, delicious food and drinks and get your shopping for the week done. \n \n\nUpcoming Dates: \n\nOctober 5th & 19th\n\nNovember 2nd & 16th \n\n\n\nInterested in setting up a booth? Contact info@stargazer-ranch.com or call 830-443-1948. Read all about it at https://www.stargazer-ranch.com/
X-ALT-DESC;FMTTYPE=text/html:<span class="xv78j7m" spellcheck="false" style="white-space-collapse: preserve\;">Stargazer Ranch</span><span style="white-space-collapse: preserve\;"> is the host of a fantastic Market every 1st and 3rd Saturdays\, 10am-2pm! They invite you to come out and join them next Saturday for their next market! Come support local vendors\, enjoy live music\, delicious food and drinks and get your shopping for the week done. </span>\n<div>&nbsp\;</div>\n\n<div><span style="white-space-collapse: preserve\;">Upcoming Dates: </span></div>\n\n<div><span style="white-space-collapse: preserve\;">October 5th &amp\; 19th</span></div>\n\n<div><span style="white-space-collapse: preserve\;">November 2nd &amp\; 16th </span><br />\n<br />\n<span style="white-space-collapse: preserve\;">Interested in setting up a booth? Contact info@stargazer-ranch.com or call 830-443-1948. Read all about it at </span><a class="x1fey0fg xmper1u x1edh9d7" href="https://www.stargazer-ranch.com/"><span style="white-space-collapse: preserve\;">https://www.stargazer-ranch.com/</span></a><span style="white-space-collapse: preserve\;"> </span></div>\n
LOCATION:Stargazer Ranch 6005 West Ammann Rd. Bulverde\, TX
UID:e.187.28455
SEQUENCE:3
DTSTAMP:20260419T162717Z
URL:https://business.boerne.org/events/details/the-market-at-stargazer-ranch-28455
END:VEVENT

END:VCALENDAR
