BEGIN:VCALENDAR
VERSION:2.0
PRODID:-//ChamberMaster//Event Calendar 2.0//EN
METHOD:PUBLISH
X-PUBLISHED-TTL:P3D
REFRESH-INTERVAL:P3D
CALSCALE:GREGORIAN
BEGIN:VEVENT
DTSTART:20250122T223000Z
DTEND:20250122T233000Z
X-MICROSOFT-CDO-ALLDAYEVENT:FALSE
SUMMARY:The Journey: 2025- A Three-Part Dementia Care Workshop for Families & Caregivers
DESCRIPTION:Join Franklin Park  Boerne for a purposeful journey through the stages of Alzheimer's disease and related dementia\, presented by Hannah Calame\, MSDA. This enlightening three-part series is carefully designed for families and caregivers navigating dementia. We know the road is challenging\, but you're not alone - let's navigate it together. Seats are limited - please secure your spot by January 9 by scanning the QR code or calling (830) 816-5150.
X-ALT-DESC;FMTTYPE=text/html:Join Franklin Park&reg\; Boerne for a purposeful journey through the stages of Alzheimer&rsquo\;s disease and related dementia\, presented by Hannah Calame\, MSDA. This enlightening three-part series is carefully designed for families and caregivers navigating dementia. We know the road is challenging\, but you&#39\;re not alone - let&#39\;s navigate it together. Seats are limited - please secure your spot by January 9 by scanning the QR code or calling (830) 816-5150.
LOCATION:Franklin Park Boerne Assisted Living and Memory Care
UID:e.187.28999
SEQUENCE:3
DTSTAMP:20260423T071234Z
URL:https://business.boerne.org/events/details/the-journey-2025-a-three-part-dementia-care-workshop-for-families-caregivers-01-22-2025-28999
END:VEVENT

END:VCALENDAR
