BEGIN:VCALENDAR
VERSION:2.0
PRODID:-//ChamberMaster//Event Calendar 2.0//EN
METHOD:PUBLISH
X-PUBLISHED-TTL:P3D
REFRESH-INTERVAL:P3D
CALSCALE:GREGORIAN
BEGIN:VEVENT
DTSTART:20230127T013000Z
DTEND:20230127T040000Z
X-MICROSOFT-CDO-ALLDAYEVENT:FALSE
SUMMARY:The Four Phantoms in Concert
DESCRIPTION:An extravagant celebration of the iconic music of Broadway and more\, The Four Phantoms In Concert features an extraordinary quartet of performers all of whom have performed the infamous masked leading role (combined total of 6\,000 performances) in the Tony Award-winning The Phantom of the Opera. This unforgettable night of entertainment features Brent Barrett\, John Cudia\, Franc D'Ambrosio\, and Ciar n Sheehan\, is under the music supervision of two-time Grammy Award-winner David Caddick and music director Ryan Shirar. Joining the Four Phantoms is special guest Kaley Ann Voorhees\, one of the youngest sopranos to play the role of Christine on Broadway. \n\nBe mesmerized by the Music of the Night! \n\nSometimes you wish that a concert would never end   a fantastic\, do not miss night of entertainment!   Key Largo\, Florida
X-ALT-DESC;FMTTYPE=text/html:<p style="text-align: center\;">An extravagant celebration of the iconic music of Broadway and more\, <strong>The Four Phantoms In Concert</strong> features an extraordinary quartet of performers&hellip\;all of whom have performed the infamous masked leading role (combined total of 6\,000 performances) in the Tony Award-winning <em>The Phantom of the Opera</em>. This unforgettable night of entertainment features Brent Barrett\, John Cudia\, Franc D&rsquo\;Ambrosio\, and Ciar&aacute\;n Sheehan\, is under the music supervision of two-time Grammy Award-winner David Caddick and music director Ryan Shirar. Joining the Four Phantoms is special guest Kaley Ann Voorhees\, one of the youngest sopranos to play the role of Christine on Broadway.&nbsp\;<br />\n<em><strong>Be mesmerized by the Music of the Night! </strong></em></p>\n\n<p style="text-align: center\;"><em>Sometimes you wish that a concert would never end &ndash\; a fantastic\, do not miss night of entertainment! &ndash\; </em>Key Largo\, Florida</p>\n
LOCATION:Boerne Champion High School Auditorium
UID:e.187.20663
SEQUENCE:3
DTSTAMP:20260423T071423Z
URL:https://business.boerne.org/events/details/the-four-phantoms-in-concert-20663
END:VEVENT

END:VCALENDAR
