BEGIN:VCALENDAR
VERSION:2.0
PRODID:-//ChamberMaster//Event Calendar 2.0//EN
METHOD:PUBLISH
X-PUBLISHED-TTL:P3D
REFRESH-INTERVAL:P3D
CALSCALE:GREGORIAN
BEGIN:VEVENT
DTSTART:20260302T173000Z
DTEND:20260302T193000Z
X-MICROSOFT-CDO-ALLDAYEVENT:FALSE
SUMMARY:Texas Independence Day Celebration at Liberty Capital Bank
DESCRIPTION:Monday\, March 2nd Liberty Capital Bank is celebrating Texas in a big way   and you're invited!   \n\nLiberty Capital Bank invites you to their Annual Texas Independence Day Celebration at their Boerne location!\n\n  Monday\, March 2\, 2026\n\n  11:30 AM   1:30 PM\n\n  1208 S. Main Street\, Boerne\n\nSwing by during lunch and enjoy:\n\n  Brisket sandwiches\n\n  Fish tacos\n\n  Ice-cold Dr Pepper\n\n  Sweet pralines & more\n\nPlus\, enjoy live music from The Native Texans Band while you connect with friends\, family\, and neighbors.\n\nThis is a community event and everyone is welcome! Come hungry\, bring a friend\, and celebrate Texas pride with Liberty Capital Bank.
X-ALT-DESC;FMTTYPE=text/html:<div class="xdj266r x14z9mp xat24cr x1lziwak x1vvkbs x126k92a" style="white-space-collapse: preserve\; margin-inline: 0px\; overflow-wrap: break-word\; margin-bottom: 0px\; margin-top: 0px\; font-family: &quot\;Segoe UI Historic&quot\;\, &quot\;Segoe UI&quot\;\, Helvetica\, Arial\, sans-serif\; color: rgb(8\, 8\, 9)\; font-size: 15px\; background-color: rgb(255\, 255\, 255)\;">\n<div dir="auto" style="font-family: inherit\;">\n<div class="xdj266r x14z9mp xat24cr x1lziwak x1vvkbs x126k92a" style="white-space-collapse: preserve\; background-color: rgb(255\, 255\, 255)\; margin-inline: 0px\; overflow-wrap: break-word\; margin-bottom: 0px\; margin-top: 0px\; font-family: &quot\;Segoe UI Historic&quot\;\, &quot\;Segoe UI&quot\;\, Helvetica\, Arial\, sans-serif\; color: rgb(8\, 8\, 9)\; font-size: 15px\;">\n<div dir="auto" style="font-family: inherit\;">Monday\, March 2nd Liberty Capital Bank is celebrating Texas in a big way &mdash\; and you&rsquo\;re invited! <span style="font-family:segoe ui emoji\,sans-serif\;">&#129312\;&#11088\;</span><br />\nLiberty Capital Bank invites you to their Annual Texas Independence Day Celebration at their Boerne location!<br />\n<span style="font-family:segoe ui emoji\,sans-serif\;">&#128197\;</span> Monday\, March 2\, 2026<br />\n<span style="font-family:segoe ui emoji\,sans-serif\;">&#9200\;</span> 11:30 AM &ndash\; 1:30 PM<br />\n<span style="font-family:segoe ui emoji\,sans-serif\;">&#128205\;</span> 1208 S. Main Street\, Boerne<br />\nSwing by during lunch and enjoy:<br />\n<span style="font-family:segoe ui emoji\,sans-serif\;">&#129386\;</span> Brisket sandwiches<br />\n<span style="font-family:segoe ui emoji\,sans-serif\;">&#127790\;</span> Fish tacos<br />\n<span style="font-family:segoe ui emoji\,sans-serif\;">&#129380\;</span> Ice-cold Dr Pepper<br />\n<span style="font-family:segoe ui emoji\,sans-serif\;">&#127852\;</span> Sweet pralines &amp\; more<br />\nPlus\, enjoy live music from The Native Texans Band while you connect with friends\, family\, and neighbors.<br />\nThis is a community event and everyone is welcome! Come hungry\, bring a friend\, and celebrate Texas pride with Liberty Capital Bank.</div>\n</div>\n</div>\n</div>\n
LOCATION:Liberty Capital Bank 1208 S. Main St. Boerne\, TX 78006
UID:e.187.32268
SEQUENCE:3
DTSTAMP:20260420T070654Z
URL:https://business.boerne.org/events/details/texas-independence-day-celebration-at-liberty-capital-bank-32268
END:VEVENT

END:VCALENDAR
