BEGIN:VCALENDAR
VERSION:2.0
PRODID:-//ChamberMaster//Event Calendar 2.0//EN
METHOD:PUBLISH
X-PUBLISHED-TTL:P3D
REFRESH-INTERVAL:P3D
CALSCALE:GREGORIAN
BEGIN:VEVENT
DTSTART;VALUE=DATE:20250620
DTEND;VALUE=DATE:20250622
TRANSP:TRANSPARENT
X-MICROSOFT-CDO-ALLDAYEVENT:TRUE
SUMMARY:Texas Hill Country Game Fair
DESCRIPTION:The Texas Hill Country Game Fair\, held at Joshua Creek Ranch Shooting Resort in Boerne\, Texas is a brand new event to the San Antonio Stock Show & Rodeo fundraisers. The event offers a family friendly environment for the outdoor sporting enthusiast\, the conservationist\, and supporters of our Mission to educate the youth of Texas. For two days\, explore Joshua Creek Ranch and participate in activities like archery\, fly fishing\, shooting sports\, tastings\, shopping\, and so much more!\n\nThere are 4 ways to participate in this one-of-a-kind event:\n\n1. Sponsor\n\n2. Exhibit\n\n3. Attend\n\n4. Compete in Shotgun Shooting Competition\n\nVisit www.sarodeo.com/wildlife for more information!
X-ALT-DESC;FMTTYPE=text/html:<div class="xdj266r x11i5rnm xat24cr x1mh8g0r x1vvkbs" style="margin: 0px\; overflow-wrap: break-word\; font-family: &quot\;Segoe UI Historic&quot\;\, &quot\;Segoe UI&quot\;\, Helvetica\, Arial\, sans-serif\; color: rgb(8\, 8\, 9)\; font-size: 15px\; background-color: rgb(255\, 255\, 255)\;">The Texas Hill Country Game Fair\, held at Joshua Creek Ranch Shooting Resort in Boerne\, Texas is a brand new event to the San Antonio Stock Show &amp\; Rodeo fundraisers. The event offers a family friendly environment for the outdoor sporting enthusiast\, the conservationist\, and supporters of our Mission to educate the youth of Texas. For two days\, explore Joshua Creek Ranch and participate in activities like archery\, fly fishing\, shooting sports\, tastings\, shopping\, and so much more!</div>\n\n<div class="x11i5rnm xat24cr x1mh8g0r x1vvkbs xtlvy1s" style="margin: 0.5em 0px 0px\; overflow-wrap: break-word\; font-family: &quot\;Segoe UI Historic&quot\;\, &quot\;Segoe UI&quot\;\, Helvetica\, Arial\, sans-serif\; color: rgb(8\, 8\, 9)\; font-size: 15px\; background-color: rgb(255\, 255\, 255)\;">There are 4 ways to participate in this one-of-a-kind event:</div>\n\n<div class="x11i5rnm xat24cr x1mh8g0r x1vvkbs xtlvy1s" style="margin: 0.5em 0px 0px\; overflow-wrap: break-word\; font-family: &quot\;Segoe UI Historic&quot\;\, &quot\;Segoe UI&quot\;\, Helvetica\, Arial\, sans-serif\; color: rgb(8\, 8\, 9)\; font-size: 15px\; background-color: rgb(255\, 255\, 255)\;">1. Sponsor<br class="html-br" />\n2. Exhibit<br class="html-br" />\n3. Attend<br class="html-br" />\n4. Compete in Shotgun Shooting Competition</div>\n\n<div class="x11i5rnm xat24cr x1mh8g0r x1vvkbs xtlvy1s" style="margin: 0.5em 0px 0px\; overflow-wrap: break-word\; font-family: &quot\;Segoe UI Historic&quot\;\, &quot\;Segoe UI&quot\;\, Helvetica\, Arial\, sans-serif\; color: rgb(8\, 8\, 9)\; font-size: 15px\; background-color: rgb(255\, 255\, 255)\;">Visit&nbsp\;<a attributionsrc="/privacy_sandbox/comet/register/source/?xt=AZX0Hd5rMPHrHPtUfwgaS485Uu-apeZl3mtBA41M8wQn52-f9X7PPEqZ-pEGi3PHHmPshAk_UPS_BFix_FHnAknx_uuOV3lDyThRutJo83wH5Izs1ver9DHKYHGX7w6rFDiAY7SgdWsctF5HQs4ZK-hj0DFImqD_Cigxcxp9MQ5KR_SvwycoUwqbnBT_P_tubIaLun4neKZN2DGeltVewxMQ4aN3-8S4HrQJPACbbPeUQpZc-VRADJ2Bxnh06cfsi8apDMVQlqf1rq1MFLVW40fEptyE08XvAhkGeMyQtai6QVBaEK6rZFWAEfxXUdlS417UFvphdf035IpdXy0uiMKmwrzhBn--TZIxsSf_s0OSz_D-8I_yn9VGuP-2xPtn0N3_MkCzNIYMjVe0BHpXlxCEsdsvfZbAbKug5RBIcdmWjRH9x61B-PMjV16zo9oqUVg5Mowyc1_01vMQuNsjRseN62FWwQ1wGUw4o02H4WwiHuJFDd3PpYCMc15fNWY0BGehgVJfjfFddXdZpiKdIFiyZ3HdVnihufLinAD3BNv-x--WScesllM2NKImsoK4ukqaI7S0aD8kjyLLisZnZk906KjtsjL2vDiOR37r2J5PNFztD_kgF_VJtpPFIkIU9LA-RL6Bf4MxNnYIpyKbyQS3aUllEmNV_lNHBuZWaUbFMmUfqSDyOb0jLZSCuvCVi9O-HuC2e41z30uxdmAitp55Gp1BuF4c7NbCfzsO35rJYfHdFIEqD5Y1eMQpxUcbhgA_EktLbQh-ZNaZr2nKYHaWFpku9lLMPstyQGOPh784qnlHtXyrgHaCAdKKU6tkBFWk8-dHT2z_7NeWuXPY7vIQKLbGmu5BYW_Ex2TAi4S2Ow" class="x1i10hfl xjbqb8w x1ejq31n xd10rxx x1sy0etr x17r0tee x972fbf xcfux6l x1qhh985 xm0m39n x9f619 x1ypdohk xt0psk2 xe8uvvx xdj266r x11i5rnm xat24cr x1mh8g0r xexx8yu x4uap5 x18d9i69 xkhd6sd x16tdsg8 x1hl2dhg xggy1nq x1a2a7pz xkrqix3 x1sur9pj x1fey0fg x1s688f" href="https://l.facebook.com/l.php?u=http%3A%2F%2Fwww.sarodeo.com%2Fwildlife%3Ffbclid%3DIwZXh0bgNhZW0CMTAAAR3ZKl19V4AvSWbizTk_GBc_q2agQsXYlOh23plpr8qfvjxig0jYACDIPIU_aem__ZCFf_so4J8SEP-pwFZ4cQ&amp\;h=AT0lBGQFwwq8TT0gntZhuCDqGuSs9Rli-zvarGOcWD7CJovrh_ojB5m4EoziQbWVH6ws34QtkLwRWbh48tKk-vmtgA4MfT8za0gVcKwZ_vJ9yF2H7LUjr-xYdEfPpt6TxIxn&amp\;__tn__=q&amp\;c[0]=AT33rmQywaG8qSupnEXUpq3QrY2eyI7nuqkABwbUj7Z4Mea_K4-Jt8n5c4smWz-uwbFyycwMUnX3wXdbS8Xqc6HLuDOZzYI01xBaBXpeUauNJxJKsIjAK6v7iJch4Y0V6A25MJbpm5QEhTJHe7AEiIOv7Iw3anpKbtVMWw" rel="nofollow" role="link" style="cursor: pointer\; text-decoration-line: none\; list-style: none\; margin: 0px\; text-align: inherit\; border-style: none\; padding: 0px\; box-sizing: border-box\; border-width: 0px\; outline: none\; -webkit-tap-highlight-color: transparent\; font-weight: 600\; touch-action: manipulation\; background-color: transparent\; display: inline\; font-family: inherit\;" tabindex="0" target="_blank">www.sarodeo.com/wildlife</a>&nbsp\;for more information!</div>\n
LOCATION:Joshua Creek Ranch 132 Cravey Road Boerne\, TX 78006
UID:e.187.29231
SEQUENCE:3
DTSTAMP:20260422T195226Z
URL:https://business.boerne.org/events/details/texas-hill-country-game-fair-29231
END:VEVENT

END:VCALENDAR
