BEGIN:VCALENDAR
VERSION:2.0
PRODID:-//ChamberMaster//Event Calendar 2.0//EN
METHOD:PUBLISH
X-PUBLISHED-TTL:P3D
REFRESH-INTERVAL:P3D
CALSCALE:GREGORIAN
BEGIN:VEVENT
DTSTART:20250417T230000Z
DTEND:20250418T000000Z
X-MICROSOFT-CDO-ALLDAYEVENT:FALSE
SUMMARY:TBI Warrior Foundation Thinking\, Thriving\, and Well-Being Webinar
DESCRIPTION:Join TBI Warrior Foundation tomorrow\, April 17th\, 6-7pm for an online workshop on Thinking\, Thriving and Well-Being! Come enjoy a community conversation about mindset\, healing\, and moving forward.\n\n\n\nIn this session\, you'll learn about how your thoughts can shape your experience   and how learning to shift your mindset can open the door to emotional wellness\, confidence\, and purpose. Whether you're heading back to work\, adjusting to a new routine\, or simply looking for encouragement\, you'll walk away with real strategies you can use right away.\n\n\n\nTopics covered:\n\n  How to think in ways that support growth and healing\n\n  How your thoughts can reduce stress\, anxiety\, and overwhelm\n\n  Simple tools to build confidence in everyday life\n\n  How to stay motivated when the road ahead feels uncertain\n\n\n\nREGISTER HERE!
X-ALT-DESC;FMTTYPE=text/html:<div class="xdj266r x11i5rnm xat24cr x1mh8g0r x1vvkbs x126k92a" style="margin: 0px\; overflow-wrap: break-word\; white-space-collapse: preserve\; font-family: &quot\;Segoe UI Historic&quot\;\, &quot\;Segoe UI&quot\;\, Helvetica\, Arial\, sans-serif\; color: rgb(8\, 8\, 9)\; font-size: 15px\; background-color: rgb(255\, 255\, 255)\;">\n<div dir="auto" style="font-family: inherit\;">Join <span class="html-span xdj266r x11i5rnm xat24cr x1mh8g0r xexx8yu x4uap5 x18d9i69 xkhd6sd x1hl2dhg x16tdsg8 x1vvkbs" style="margin: 0px\; text-align: inherit\; overflow-wrap: break-word\; padding: 0px\; font-family: inherit\;"><a attributionsrc="/privacy_sandbox/comet/register/source/?xt=AZUScRtdDVRswWiDyd4V2NhCrMUN4bNHj91oF5Sw1pOJO37xEZd_TuVrSunos0peEmDNHVMHnvbZuzCIMFrYEgDWTbsf4Yx1vb3nRfZ1-YpvPH9XsuAO7Db22CkIKsFmVIZC5qxjkC08ikD0Mp9LHz1Lm6DYfv7JaY4ofVMW0BW0Md3k4a1S5OfJKVNU6zHvcj0miIRidDqVflVvh_GtZ_UN7lyEIDXo5XfCZ1_uX_LFKOL6fACsEix6RZ51mftdoGgWEVjJO4aFJ6st8IkxHzh9qJrAxdMSCaWpKCJgjNYz53vhKO6XDp95dGp_9-2tVMbfm-BkyEEUWqWS4cQFRwrXSljyPyvSZD85y7Hd9pfqQGt8_EtO6g1_ECiVZ0mm0iN5Syqjo0A_qQPQYaPOD9bsE3uzDHOPuYX4m--X5TsYSn87eHE4xLvtl1LUPGiDWB7O-YG83d50ksFVGeqn_y011HDCeROAyW7wJNbfMz5fLvJZEMKtbjPO-dQYYiflmHKlONjLaUTH6_VgkwQW4kvG5uz1dy5yDd91sCkbc5kAY9ugsIKVcjHS54Qg6Y7z6zo5INORe-MnNIaHngisJBV_-Hu1jxT_YOcgysi2ob3sX_2B0hqN5a6YvUKZDx_8L6OUH8-5Tll_Vf_FCsC8l84kh0W3BbGdLRSjtHhGgFXDkWpiAiDlyrwtDPBQnFCqT9ZnKbd-c_sLUQfMFkEDh8lPLf3sNKWay3XC_Dlw2T8daAOnxwuyNyIuVfCgJNvC_xaPl7QN9gbexrgVBFYrOmQxUWPUr9r2dVU0qUEO15DFkR7nlYhcsD5_TBAchDfLEiWxvEYZN_7Q9QF9oiwaRoExF37V8cBC8KD35fp34dKtjElRMrN0VP4KJM_gA3JDpECLUUEE5vIIQ-5EN_1OeuxD-qouYP3o78ZkUOjxRiEBvTKUI3PQI_A95gcQrE6bSSRzre-hATCmc0KuD81oCxFhS2r_M74j-bUZ5Xdh46jpbCuiUweL7DlI1KN1KA1zqyDVq0c12ArfXad8bmR_UW03B_XcLUCzgzOBamm4QzDTxEkkz_0H1fZidvRGafTUr0RQmNW1UAykPxM57_ICvygQUoogyrzOfyO7uT3eSQNAiH6difxkdXbT9hHJFiFJ8EsNJqDLPfnht6Nc0EfPiCBTahNRs9BODBGxV0lyxck0fF4lTuENjAcEmQ_m_hZ7ufKIDQzGiwONA79VLdwGbB-ALmsBlvBqOTSwSVPdsMCxDs0vBng7p3YRGJdA0W-cYUepIiuROvHvH3jwDCA6QjIlhmAY8TFN6Kjm2UAzglifBGFV8cDaEOy6O8aWRRradlrRqt6_A0HAb08GXLPPdwC6btA3_GqSRiHhM9Hc8zPW6qcDgAuIOPJ4saEgo-4P_ijzHKIK9zZMGOQPIgoBwla2bH4xSw0mZ697zor4BBx9WpBekTHKjK0T9P1NFSf_cdi5X9LO6wxOox__TxpNdfymDdRmdxWKOdMVQAcjWdidowGzg9W-__5QXpb6uR8IY-5KMUe4jWUqUL02TJ-9GlW7-7kJRCp_bHl5PdmbL8MICJ2cQq3eKz0gm3ttNFWdJoIt2PgDSG498JI4j2edc6iJIwStGkbVvlmh2AomIrKd7qlgHevMm4h68PS_I9O5X-T5JxX5TvMd3ghw6s56rJXft7Eg9nImN0iZb-uHqvGf6ZsqPli8fGZlvBAepILBWNyRlazIwxKLQZ2AwgymdrDjR0OgwrBkJZBxMP5olAFyfL0tEx-jTVEIwWDQEzpTORepTC8fNIfC0jtrLCGbPMmI1U317BWHMbw4zU9ZmSKhq1i2sjKetB5LDkh7py3tb7G0xlRIPyOb7Ee5jE11C3NyTksa59Goaw2lcgrlvhFp0KLYW7aq5bhPJFhebFLBE_7oB4WhjfO0NBi5iCoo7AbYO679lPqZu_53CxrakVeLKH9TLM--BIDnhrd-kFtLOscl7rXeEwxTJEDvXMexuld6hqSc9q5fuMVmLZiNkxv3606S1HB1H06ges9oHr50g_NE3Z4sHmsQwxtdTivhV60aaOs3jWtrmQzdgstSEiVse0lhKxCWm9VxkvU-EIBCBT3yqrd_cM58-3sk7k99MC_sJmHUaOSkJtCwdu-X5BXH3FyItHyf2u6Q_aQJUWnA-r0Ojl9X4f2-Ayw-3tHzS2mG2-3kYqy2Gl8VYFjCbMnKswj3mku39ZVoMIYML6DXPrvtzr3FTgJemOU98s9_PhC3fQZMzzz-B3eQl209cKaW3GSvjQgoiN1Mv1duPeYXA53UdUrvy-Y780jCPGatz6X6daHgo3fF8P-awsiKJrt-sMPncMFt8Co7kEkXUOg0TmoEbTwyykkjgFapqmf3SzFj4P3xccVj8lbwDKYALFMSDTQ4GNLJa23dlyxcOeatvHmjUAyz4WlxPCiB_FNpbuMBixA9yJsCNKwkond6dKgYU8AZ-GGR24QoMpdGtiT56kZeOpIMENW86l5GTi0MNaAj7Fov0nwh02P6aXtLCLj1oQmcPSiOeFfO8ElXr0Khd98ut5UoaRL32tE7XPp4LfbJsR6amfnAhh1d3mvWVUfm02MMkgubTSjBU70_Gg-2zW5EfcqEQg2CSOLo3CTxRe3fNjLB8Y3uj1M0680AHc78WHmEzNDyM6URwlgzEN9J5GjG3DYuh-9Jt6hTkwGOeGVjINGpkCK6T3RuGXco7O589uGnuCWEJP4bp8vnVfBxdA7uMJtPGJi0sxmPoMLLEXIB" class="x1i10hfl xjbqb8w x1ejq31n xd10rxx x1sy0etr x17r0tee x972fbf xcfux6l x1qhh985 xm0m39n x9f619 x1ypdohk xt0psk2 xe8uvvx xdj266r x11i5rnm xat24cr x1mh8g0r xexx8yu x4uap5 x18d9i69 xkhd6sd x16tdsg8 x1hl2dhg xggy1nq x1a2a7pz xkrqix3 x1sur9pj x1fey0fg x1s688f" href="https://www.facebook.com/tbiwarriorfoundation?__cft__[0]=AZWr-N_wT5q3YHmLxZKjXGt5JPGsi6Tv4OEXgXAS11SvaEcdlvrAho2W2_ms3GhVZ-pnHqm6jrSikGKQINmDKv6mIV_7vlQfdyJLZ0culRuVvxBA0PCR1MSqtVhOcGQVBh8YKf6-fjNNLggmZ2AZsw75LWd72T8hxCdOE_b1y-0YJXzMkGV6JNz6_40U00Wa8-se5_97wi__HQJG2cm3lJQzXvEEdeSJBAzlEJitfEwCBlLe8akvUDx7rZreUPc1Vx0&amp\;__tn__=-]K-R" role="link" style="color: rgb(0\, 100\, 209)\; cursor: pointer\; text-decoration-line: none\; list-style: none\; margin: 0px\; text-align: inherit\; border-style: none\; padding: 0px\; box-sizing: border-box\; border-width: 0px\; outline: none\; -webkit-tap-highlight-color: transparent\; font-weight: 600\; touch-action: manipulation\; background-color: transparent\; display: inline\; font-family: inherit\;" tabindex="0"><span class="xt0psk2" style="display: inline\; font-family: inherit\;">TBI Warrior Foundation</span></a></span> tomorrow\, April 17th\, 6-7pm for an online workshop on Thinking\, Thriving and Well-Being! Come enjoy a community conversation about mindset\, healing\, and moving forward.</div>\n</div>\n\n<div class="x11i5rnm xat24cr x1mh8g0r x1vvkbs xtlvy1s x126k92a" style="margin: 0.5em 0px 0px\; overflow-wrap: break-word\; white-space-collapse: preserve\; font-family: &quot\;Segoe UI Historic&quot\;\, &quot\;Segoe UI&quot\;\, Helvetica\, Arial\, sans-serif\; color: rgb(8\, 8\, 9)\; font-size: 15px\; background-color: rgb(255\, 255\, 255)\;">\n<div dir="auto" style="font-family: inherit\;">In this session\, you&#39\;ll learn about how your thoughts can shape your experience &mdash\; and how learning to shift your mindset can open the door to emotional wellness\, confidence\, and purpose. Whether you&rsquo\;re heading back to work\, adjusting to a new routine\, or simply looking for encouragement\, you&rsquo\;ll walk away with real strategies you can use right away.</div>\n</div>\n\n<div class="x11i5rnm xat24cr x1mh8g0r x1vvkbs xtlvy1s x126k92a" style="margin: 0.5em 0px 0px\; overflow-wrap: break-word\; white-space-collapse: preserve\; font-family: &quot\;Segoe UI Historic&quot\;\, &quot\;Segoe UI&quot\;\, Helvetica\, Arial\, sans-serif\; color: rgb(8\, 8\, 9)\; font-size: 15px\; background-color: rgb(255\, 255\, 255)\;">\n<div dir="auto" style="font-family: inherit\;">Topics covered:</div>\n\n<div dir="auto" style="font-family: inherit\;">&bull\; How to think in ways that support growth and healing</div>\n\n<div dir="auto" style="font-family: inherit\;">&bull\; How your thoughts can reduce stress\, anxiety\, and overwhelm</div>\n\n<div dir="auto" style="font-family: inherit\;">&bull\; Simple tools to build confidence in everyday life</div>\n\n<div dir="auto" style="font-family: inherit\;">&bull\; How to stay motivated when the road ahead feels uncertain</div>\n</div>\n\n<div class="x11i5rnm xat24cr x1mh8g0r x1vvkbs xtlvy1s x126k92a" style="margin: 0.5em 0px 0px\; overflow-wrap: break-word\; white-space-collapse: preserve\; font-family: &quot\;Segoe UI Historic&quot\;\, &quot\;Segoe UI&quot\;\, Helvetica\, Arial\, sans-serif\; color: rgb(8\, 8\, 9)\; font-size: 15px\; background-color: rgb(255\, 255\, 255)\;">\n<div dir="auto" style="font-family: inherit\;"><strong><a href="https://www.tbiwarriorfoundation.org/programs/workshops-and-seminars?fbclid=IwY2xjawJsqqxleHRuA2FlbQIxMAABHscLfVA5bAsqq2EiMbJVA04u-Q86My3SLps_bskOu3WGRtfSxKqyxgz9Ssxt_aem_UQeghU-ajixVzzkSWBMZDA">REGISTER HERE!</a></strong></div>\n</div>\n
LOCATION:Online
UID:e.187.29379
SEQUENCE:3
DTSTAMP:20260419T143403Z
URL:https://business.boerne.org/events/details/tbi-warrior-foundation-thinking-thriving-and-well-being-webinar-29379
END:VEVENT

END:VCALENDAR
