BEGIN:VCALENDAR
VERSION:2.0
PRODID:-//ChamberMaster//Event Calendar 2.0//EN
METHOD:PUBLISH
X-PUBLISHED-TTL:P3D
REFRESH-INTERVAL:P3D
CALSCALE:GREGORIAN
BEGIN:VEVENT
DTSTART:20240928T223000Z
DTEND:20240929T020000Z
X-MICROSOFT-CDO-ALLDAYEVENT:FALSE
SUMMARY:Taste of Comfort
DESCRIPTION:Join us for an unforgettable evening of food and fun at the 2024 Taste of Comfort!\n\nOn Saturday\, September 28\, from 5:30-9 pm\, we invite you to celebrate the Tastes and Treasures of the Texas Hill Country at The Ironwood Barn at The Von Erich Ranch\,1637 FM 473\, Boerne\, TX 78006. The beautiful\, climate-controlled barn creates the ultimate ambiance for Comfort Public Library's primary fundraising event. Make sure you bring your appetite\, as local chefs and area beverage purveyors showcase their prowess\, serving up their signature creations. From savory classics to sweet treats\, there will be something to satisfy every palate.\n\nWhile savoring the taste of the Hill Country's best\, enjoy live music and great company while bidding on treasures at both the Silent and Live Auctions\; we will feature our popular Wine Wall where you might find a new favorite. No matter what you're craving\, you'll find it at the 2024 Taste of Comfort!
X-ALT-DESC;FMTTYPE=text/html:<p>Join us for an unforgettable evening of food and fun at the&nbsp\;<strong>2024 Taste of Comfort!</strong></p>\n\n<p>On&nbsp\;<strong>Saturday\, September 28\,&nbsp\;</strong>from&nbsp\;<strong>5:30-9 pm\,&nbsp\;</strong>we invite you to celebrate the Tastes and Treasures of the Texas Hill Country at&nbsp\;<strong>The Ironwood Barn at The Von Erich Ranch\,1637 FM 473\, Boerne\, TX 78006.&nbsp\;</strong>The beautiful\, climate-controlled barn creates the ultimate ambiance for Comfort Public Library&#39\;s primary fundraising event. Make sure you bring your appetite\, as local chefs and area beverage purveyors showcase their prowess\, serving up their signature creations. From savory classics to sweet treats\, there will be something to satisfy every palate.</p>\n\n<p>While savoring the taste of the Hill Country&#39\;s best\, enjoy live music and great company while bidding on treasures at both the Silent and Live Auctions\; we will feature our popular Wine Wall where you might find a new favorite. No matter what you&#39\;re craving\, you&#39\;ll find it at the 2024 Taste of Comfort!</p>\n
LOCATION:The Ironwood Barn at Von Erich Ranch
UID:e.187.28570
SEQUENCE:3
DTSTAMP:20260419T191321Z
URL:https://business.boerne.org/events/details/taste-of-comfort-28570
END:VEVENT

END:VCALENDAR
