BEGIN:VCALENDAR
VERSION:2.0
PRODID:-//ChamberMaster//Event Calendar 2.0//EN
METHOD:PUBLISH
X-PUBLISHED-TTL:P3D
REFRESH-INTERVAL:P3D
CALSCALE:GREGORIAN
BEGIN:VEVENT
DTSTART:20191123T160000Z
DTEND:20191123T173000Z
X-MICROSOFT-CDO-ALLDAYEVENT:FALSE
SUMMARY:Tango Together: Dancing to Live Well with Dementia
DESCRIPTION:Join UT Health San Antonio and Morningside at Menger Springs for "Tango Together: Dancing to Live Well with Dementia\," a 4-session series of dance workshops for people living with dementia and their care partners.\n\n\n\nClasses are free and refreshments will be provided. No dance experience is needed to participate!\n\n\n\nRegister with Laura Gandy at (817) 602-1577 or via e-mail at lauragandy217@gmail.com
X-ALT-DESC;FMTTYPE=text/html:Join UT Health San Antonio and Morningside at Menger Springs for &quot\;Tango Together: Dancing to Live Well with Dementia\,&quot\; a 4-session series of dance workshops for people living with dementia and their care partners.<br />\n<br />\nClasses are free and refreshments will be provided. No dance experience is needed to participate!<br />\n<br />\nRegister with Laura Gandy at (817) 602-1577 or via e-mail at lauragandy217@gmail.com
LOCATION:Cibolo House Assisted Living at Morningside at Menger Springs\, 1000 Grand Blvd.\, Boerne\, TX 78006
UID:e.187.17118
SEQUENCE:3
DTSTAMP:20260419T210707Z
URL:https://business.boerne.org/events/details/tango-together-dancing-to-live-well-with-dementia-11-23-2019-17118
END:VEVENT

END:VCALENDAR
