BEGIN:VCALENDAR
VERSION:2.0
PRODID:-//ChamberMaster//Event Calendar 2.0//EN
METHOD:PUBLISH
X-PUBLISHED-TTL:P3D
REFRESH-INTERVAL:P3D
CALSCALE:GREGORIAN
BEGIN:VEVENT
DTSTART:20190104T193000Z
DTEND:20190104T203000Z
X-MICROSOFT-CDO-ALLDAYEVENT:FALSE
SUMMARY:STEMtastic Ribbon Cutting Ceremony & Open House
DESCRIPTION:Join us for a ribbon cutting ceremony and open house celebrating the grand opening of STEMtastic!
X-ALT-DESC;FMTTYPE=text/html:Join us for a ribbon cutting ceremony and open house celebrating the grand opening of STEMtastic!
LOCATION:18 Scenic Loop Rd. 200C Boerne\, TX 78006
UID:e.187.15328
SEQUENCE:3
DTSTAMP:20260419T210318Z
URL:https://business.boerne.org/events/details/stemtastic-ribbon-cutting-ceremony-open-house-15328
END:VEVENT

END:VCALENDAR
