BEGIN:VCALENDAR
VERSION:2.0
PRODID:-//ChamberMaster//Event Calendar 2.0//EN
METHOD:PUBLISH
X-PUBLISHED-TTL:P3D
REFRESH-INTERVAL:P3D
CALSCALE:GREGORIAN
BEGIN:VEVENT
DTSTART:20170824T140000Z
DTEND:20170824T220000Z
X-MICROSOFT-CDO-ALLDAYEVENT:FALSE
SUMMARY:State Representative Kyle Biedermann Open Office Hours
DESCRIPTION:State Representative Kyle Biedermann will be holding holding open office hours across his district during the coming weeks for constituents to meet with him in person regarding the special legislative session. Rep. Biedermann invites residents of his district to come and ask him questions\, and discuss their thoughts and concerns. \n\n \n\nThe dates/times/locations for his open office hours are below. Please sign up for a time by emailing District Director\, Bryan Benway\, at Bryan.Benway@house.texas.gov. Walk-ins are welcome\, but we would like you to sign up to guarantee your meeting.
X-ALT-DESC;FMTTYPE=text/html:<p style="color: rgb(0\, 0\, 0)\; font-family: Papyrus\; font-size: 13px\; font-style: normal\; font-variant-caps: normal\; font-weight: normal\; letter-spacing: normal\; orphans: auto\; text-align: start\; text-indent: 0px\; text-transform: none\; white-space: normal\; widows: auto\; word-spacing: 0px\; -webkit-text-size-adjust: auto\; -webkit-text-stroke-width: 0px\; margin: 0in 0in 0.0001pt\;"><span style="font-family: Arial\, sans-serif\; color: rgb(34\, 34\, 34)\;">State Representative Kyle Biedermann will be holding holding open office hours across his district during the coming weeks for constituents to meet with him in person regarding the special legislative session. Rep. Biedermann invites residents of his district to come and ask him questions\, and discuss their thoughts and concerns. </span><br />\n&nbsp\;</p>\n\n<p style="color: rgb(0\, 0\, 0)\; font-family: Papyrus\; font-size: 13px\; font-style: normal\; font-variant-caps: normal\; font-weight: normal\; letter-spacing: normal\; orphans: auto\; text-align: start\; text-indent: 0px\; text-transform: none\; white-space: normal\; widows: auto\; word-spacing: 0px\; -webkit-text-size-adjust: auto\; -webkit-text-stroke-width: 0px\; margin: 0in 0in 0.0001pt\;"><span style="font-family: Arial\, sans-serif\; color: rgb(34\, 34\, 34)\;">The dates/times/locations for his open office hours are below. Please sign up for a time by emailing District Director\, Bryan Benway\, at <a href="http://Bryan.Benway@house.texas.gov">Bryan.Benway@house.texas.gov</a>. Walk-ins are welcome\, but we would like you to sign up to guarantee your meeting.<span> </span></span></p>\n
LOCATION:Greater Boerne Chamber of Commerce Front Office 121 S. Main St.\, Boerne TX 78006
UID:e.187.11954
SEQUENCE:3
DTSTAMP:20260422T231315Z
URL:https://business.boerne.org/events/details/state-representative-kyle-biedermann-open-office-hours-11954
END:VEVENT

END:VCALENDAR
