BEGIN:VCALENDAR
VERSION:2.0
PRODID:-//ChamberMaster//Event Calendar 2.0//EN
METHOD:PUBLISH
X-PUBLISHED-TTL:P3D
REFRESH-INTERVAL:P3D
CALSCALE:GREGORIAN
BEGIN:VEVENT
DTSTART;VALUE=DATE:20180117
DTEND;VALUE=DATE:20180118
TRANSP:TRANSPARENT
X-MICROSOFT-CDO-ALLDAYEVENT:TRUE
SUMMARY:State of City Address & Luncheon has been RESCHEDULED to February 13
DESCRIPTION:The State of the City Luncheon and Address has been rescheduled to Tuesday\, February 13 from 11 am to 1 pm at the Cana Ballroom.\n\n\n\nClick here to be redirected to that page:\n\nhttp://business.boerne.org/events/details/state-of-the-city-sponsored-by-texas-heritage-bank-12024
X-ALT-DESC;FMTTYPE=text/html:The State of the City Luncheon and Address has been rescheduled to Tuesday\, February 13 from 11 am to 1 pm at the Cana Ballroom.<br />\n<br />\nClick here to be redirected to that page:<br />\n<a href="http://business.boerne.org/events/details/state-of-the-city-sponsored-by-texas-heritage-bank-12024">http://business.boerne.org/events/details/state-of-the-city-sponsored-by-texas-heritage-bank-12024</a>
LOCATION:The Cana Ballroom 202 W. Kronkosky St.\, Boerne\, TX 78006
UID:e.187.13497
SEQUENCE:3
DTSTAMP:20260422T172252Z
URL:https://business.boerne.org/events/details/state-of-city-address-luncheon-has-been-rescheduled-to-february-13-13497
END:VEVENT

END:VCALENDAR
