BEGIN:VCALENDAR
VERSION:2.0
PRODID:-//ChamberMaster//Event Calendar 2.0//EN
METHOD:PUBLISH
X-PUBLISHED-TTL:P3D
REFRESH-INTERVAL:P3D
CALSCALE:GREGORIAN
BEGIN:VEVENT
DTSTART:20250122T190000Z
DTEND:20250123T010000Z
X-MICROSOFT-CDO-ALLDAYEVENT:FALSE
SUMMARY:St. John Lutheran School Open House for the 2025-26 school year
DESCRIPTION:Give your child the gift of adventure\; school should be fun AND educational! Come learn about what sets St. John Lutheran School Boerne apart at their next Open House for the 2025-26 school year on Wednesday\, January 22nd at 1pm & 7pm. St. John educates students in pre-k through 5th grade. Take a tour and hear about the experience they offer that ties the Abeka curriculum to life in Boerne as they educate the next generation of believers and leaders!\n\n\n\nPlease let them know you're coming by RSVPing HERE!
X-ALT-DESC;FMTTYPE=text/html:<div class="xdj266r x11i5rnm xat24cr x1mh8g0r x1vvkbs x126k92a" style="margin: 0px\; overflow-wrap: break-word\; white-space-collapse: preserve\; font-family: &quot\;Segoe UI Historic&quot\;\, &quot\;Segoe UI&quot\;\, Helvetica\, Arial\, sans-serif\; color: rgb(8\, 8\, 9)\; font-size: 15px\; background-color: rgb(255\, 255\, 255)\;">\n<div dir="auto" style="font-family: inherit\;">Give your child the gift of adventure\; school should be fun AND educational! Come learn about what sets <span class="html-span xdj266r x11i5rnm xat24cr x1mh8g0r xexx8yu x4uap5 x18d9i69 xkhd6sd x1hl2dhg x16tdsg8 x1vvkbs" style="margin: 0px\; text-align: inherit\; overflow-wrap: break-word\; padding: 0px\; font-family: inherit\;"><a attributionsrc="/privacy_sandbox/comet/register/source/?xt=AZX1wucpreBq0RaVTF5ALfTLg1pqt_d8M4bAz60ckD99ps9MVbOZwmfTu9obRBHSPNt5rI6-9ewVAUfwfMnMbsv0zt5shk5k4zrCLtl0nm2fybPwzV4haCeOS77OGth4sInkEA8PD-c_dWSzW4qTIrB-IktPDUp0PmMbCKeU5AMKl0wRU9s1iMyzJhVQVAD2StJByAujL67vSSksN08WqMysQPupOCJ5cFwRI-4C_9bQRBPZdfnZ62RnAjcOnylBxd90JqJPTnX59HjRoDtR-DJbmbbsEHWAguHY-Fu6OHFYuDFvO-fKKlRIAScQfPlaq641v0HB36gMY-7pqhUA1D8Xv3rFwKbzzmv_2Pp_wIJapgiKFuWnHe4y1I7LELZDMoKQ0tHjgt3rqW6jdkoWYC1bXD07DK-LSjuQApSe3eP5xjF2yawly5ntq7tDu_GEVzAJb271d60j9DgCr3m7phwLbVxSNMGRVfre-e7W8EAb4TWtC2EiprNsgUQYOzXsl_Uc0ZtxI-k7SeTVwUwl9peFkezAFuUYevwDlEO-XPIRdWHYiw8lpRJL0L4Z5nLLg39tFDwdaWLUoEpv0gfiiJR3VMO5Xt9yPJkyyiLt6AikzJNkZ5xcCdH6cDlLJ0amKCMRYBICwmpDeBsevG-2Q3fHKQxvPPzHRDkd9AExPrNJ5BOvRfm1wrt9i8sBdSBVsZshxov5Vt3XHsN7GxAjLz7RThiPMAFOO6ko0FnCG9LS_-iimdrcQ-qCqB2Nc4Ob0e33z_bmTJ7pWatqwQkmCEeRGTZTVNJKVUn0Qso_rRDRSkfyQV43qCc6qdv7didqrKQjqc8DHxRRszAsRaH42wdjp1bMeOIp6IdKo-MGpWWBcCS84084Y6U5bBUL3A8NIz1XWL6YKYbgi7Xp_lZ7DfBDs9dXsqPZp8rGiNjEO9TSVxabZ8hvwkwRy9JXZ6G6INlCvx7qDMP5qcIlLPtLS1PNRYfWYOrXmHRAn--lYW5EJpOlDg2dxLsSSjxUU9epjll0Lmzdm3E84k-y019FRINzq834chA5gGS2MDtUUFyHm4W9uUEMmUNlZLaKvaSXLknZdlLZeGPpHty9XErxGoSO72AEzsyKNuvTuLZPSf88MUzULunkiPYdvqEj6WyMC-1LCYPfCWwZIGRz1pQYtrWsCU8W5hGF7fmsOhv0nnQ9CFc2bzrKN3Cz7KCv6xEYmMtGFCMB7mA0BDzI54fG6UakJlUuaIx-lm5S8a6-mhzBRb64xLEPwr9RIPMaowUz7OLvFWMJfpojsXbCe8pW_-B9ggEuKEE-8HKcDWSNa21MIKFVLsl3WlmlpWCWZE_vD950P0vmFzmREMbpCwwlfIkxGzFQpGsfv1WY15uuxTjILJhuctHizARuxt5xqtWqyZUR3XyI6msZh3GnkG-FLPur" class="x1i10hfl xjbqb8w x1ejq31n xd10rxx x1sy0etr x17r0tee x972fbf xcfux6l x1qhh985 xm0m39n x9f619 x1ypdohk xt0psk2 xe8uvvx xdj266r x11i5rnm xat24cr x1mh8g0r xexx8yu x4uap5 x18d9i69 xkhd6sd x16tdsg8 x1hl2dhg xggy1nq x1a2a7pz x1sur9pj xkrqix3 x1fey0fg x1s688f" href="https://www.facebook.com/stjohnlutheranschoolboerne?__cft__[0]=AZUnVCcx8J70cdD8QIU3Lst_MK4F7MHshbuAn_slRj9bDDvZVAQJvYOWTDtCeVFS-Qf-RIHH0L3ymgk5Ms61UF9FshnmemzWyhQpCnsxIm9VVUYu7Y4qLYki92HKT6mzMsVS6gThfDATJ-6j-iImrKF5fNN8S-IvpEU4jvBg_jsG_Q&amp\;__tn__=-]K-R" role="link" style="cursor: pointer\; text-decoration-line: none\; list-style: none\; margin: 0px\; text-align: inherit\; border-style: none\; padding: 0px\; box-sizing: border-box\; border-width: 0px\; outline: none\; -webkit-tap-highlight-color: transparent\; font-weight: 600\; touch-action: manipulation\; background-color: transparent\; display: inline\; font-family: inherit\;" tabindex="0"><span class="xt0psk2" style="display: inline\; font-family: inherit\;">St. John Lutheran School Boerne</span></a></span> apart at their next Open House for the 2025-26 school year on Wednesday\, January 22nd at 1pm &amp\; 7pm. St. John educates students in pre-k through 5th grade. Take a tour and hear about the experience they offer that ties the Abeka curriculum to life in Boerne as they educate the next generation of believers and leaders!</div>\n</div>\n\n<div class="x11i5rnm xat24cr x1mh8g0r x1vvkbs xtlvy1s x126k92a" style="margin: 0.5em 0px 0px\; overflow-wrap: break-word\; white-space-collapse: preserve\; font-family: &quot\;Segoe UI Historic&quot\;\, &quot\;Segoe UI&quot\;\, Helvetica\, Arial\, sans-serif\; color: rgb(8\, 8\, 9)\; font-size: 15px\; background-color: rgb(255\, 255\, 255)\;">\n<div dir="auto" style="font-family: inherit\;">Please let them know you&#39\;re coming by RSVPing <strong><a href="https://73889873.view-events.com/calendar/73889873/event/270535498/2025-01-22">HERE</a></strong>!</div>\n</div>\n
LOCATION:St. John Lutheran Church 315 Rosewood Ave. Boerne\, Tx 78006
UID:e.187.29054
SEQUENCE:3
DTSTAMP:20260423T052254Z
URL:https://business.boerne.org/events/details/st-john-lutheran-school-open-house-for-the-2025-26-school-year-29054
END:VEVENT

END:VCALENDAR
