BEGIN:VCALENDAR
VERSION:2.0
PRODID:-//ChamberMaster//Event Calendar 2.0//EN
METHOD:PUBLISH
X-PUBLISHED-TTL:P3D
REFRESH-INTERVAL:P3D
CALSCALE:GREGORIAN
BEGIN:VEVENT
DTSTART:20230428T150000Z
DTEND:20230428T220000Z
X-MICROSOFT-CDO-ALLDAYEVENT:FALSE
SUMMARY:Spring Shopping Event Benefiting The Center
DESCRIPTION:Join Laurie Saunders and Margarita Mercantile for a Spring Shopping Event benefiting The Center! This event will take place on April 28th\, 10am to 5pm\, at Laurie Saunders Antiques & Interiors\, located at 179 S Main St.\n\n\n\nThere will be also be raffle prizes from the participating stores\, over $450 in prizes!
X-ALT-DESC;FMTTYPE=text/html:Join Laurie Saunders and Margarita Mercantile for a Spring Shopping Event benefiting The Center! This event will take place on April 28th\, 10am to 5pm\, at Laurie Saunders Antiques &amp\; Interiors\, located at 179 S Main St.<br />\n<br />\nThere will be also be raffle prizes from the participating stores\, over $450 in prizes!
LOCATION:Laurie Saunders Antiques & Interiors 179 S. Main St. Boerne\, TX. 78006
UID:e.187.21765
SEQUENCE:3
DTSTAMP:20260423T101758Z
URL:https://business.boerne.org/events/details/spring-shopping-event-benefiting-the-center-21765
END:VEVENT

END:VCALENDAR
