BEGIN:VCALENDAR
VERSION:2.0
PRODID:-//ChamberMaster//Event Calendar 2.0//EN
METHOD:PUBLISH
X-PUBLISHED-TTL:P3D
REFRESH-INTERVAL:P3D
CALSCALE:GREGORIAN
BEGIN:VEVENT
DTSTART:20170413T220000Z
DTEND:20170414T020000Z
X-MICROSOFT-CDO-ALLDAYEVENT:FALSE
SUMMARY:Spring 2017 Boerne Diva Night
DESCRIPTION:
X-ALT-DESC;FMTTYPE=text/html:
LOCATION:
UID:e.187.11449
SEQUENCE:3
DTSTAMP:20260423T060136Z
URL:https://business.boerne.org/events/details/spring-2017-boerne-diva-night-11449
END:VEVENT

END:VCALENDAR
