BEGIN:VCALENDAR
VERSION:2.0
PRODID:-//ChamberMaster//Event Calendar 2.0//EN
METHOD:PUBLISH
X-PUBLISHED-TTL:P3D
REFRESH-INTERVAL:P3D
CALSCALE:GREGORIAN
BEGIN:VEVENT
DTSTART:20181005T123000Z
DTEND:20181005T130000Z
X-MICROSOFT-CDO-ALLDAYEVENT:FALSE
SUMMARY:Special Ribbon Cutting Ceremony for Walmart
DESCRIPTION:Join us for a Special Ribbon Cutting Ceremony for Walmart Boerne
X-ALT-DESC;FMTTYPE=text/html:Join us for a Special Ribbon Cutting Ceremony for Walmart Boerne
LOCATION:Boerne Walmart Supercenter 1381 S. Main St. Boerne\, TX 78006 (map)
UID:e.187.14882
SEQUENCE:3
DTSTAMP:20260420T013342Z
URL:https://business.boerne.org/events/details/special-ribbon-cutting-ceremony-for-walmart-14882
END:VEVENT

END:VCALENDAR
