BEGIN:VCALENDAR
VERSION:2.0
PRODID:-//ChamberMaster//Event Calendar 2.0//EN
METHOD:PUBLISH
X-PUBLISHED-TTL:P3D
REFRESH-INTERVAL:P3D
CALSCALE:GREGORIAN
BEGIN:VEVENT
DTSTART:20180922T163000Z
DTEND:20180922T170000Z
X-MICROSOFT-CDO-ALLDAYEVENT:FALSE
SUMMARY:Special Ribbon Cutting Ceremony for Slider Shack
DESCRIPTION:Join us for a special ribbon cutting ceremony for Slider Shack's Grand Opening. On the 22nd of every month\, they donate 22% of proceeds from that day to a local charity supporting the Boerne Community. Join us September 22nd to commemorate Slider Shack's first charity donation.
X-ALT-DESC;FMTTYPE=text/html:Join us for a special ribbon cutting ceremony for Slider Shack&#39\;s Grand Opening. On the 22nd of every month\, they donate 22% of proceeds from that day to a local charity supporting the Boerne Community. Join us September 22nd to commemorate Slider Shack&#39\;s first charity donation.&nbsp\;
LOCATION:Slider Shack Food Truck Pavilion Food Park 826 Johns Rd. Boerne\, Texas
UID:e.187.14279
SEQUENCE:3
DTSTAMP:20260420T042659Z
URL:https://business.boerne.org/events/details/special-ribbon-cutting-ceremony-for-slider-shack-14279
END:VEVENT

END:VCALENDAR
