BEGIN:VCALENDAR
VERSION:2.0
PRODID:-//ChamberMaster//Event Calendar 2.0//EN
METHOD:PUBLISH
X-PUBLISHED-TTL:P3D
REFRESH-INTERVAL:P3D
CALSCALE:GREGORIAN
BEGIN:VEVENT
DTSTART:20180522T163000Z
DTEND:20180522T180000Z
X-MICROSOFT-CDO-ALLDAYEVENT:FALSE
SUMMARY:Special Events Networking sponsored by Casitas at Madrona Ranch
DESCRIPTION:Come join us for a Special Events Networking sponsored by Casitas at Madrona Ranch (Link) \n\nOur target businesses to benefit from this networking event are those who have anything to do with the following:\n\n	Special Events \n\n	Parties\, Galas\, Weddings\, Rehearsal dinners\, Business seminars\, Bachelorette parties\, Bridal showers\, Family Reunions\, or other special occasions\n	Services such as:\n	\n		Caterers\n		Lodging\n		Music\n		Photography\n		Salon services\n		Spa services\n		Limo service\n		Wine tastings\n		Event Venues\n		Decorating\n		Promotional items\n		Video\n		Invitations-\n		Florists
X-ALT-DESC;FMTTYPE=text/html:<span style="font-size:14px\;"><span style="font-family:comic sans ms\;">Come join us for a Special Events Networking sponsored by&nbsp\;<b font-size:="" ms="" sans="" style="color: rgb(0\, 0\, 0)\; font-family: Arial\, Helvetica\, ">Casitas at Madrona Ranch (Link)&nbsp\;</b><br />\nOur target businesses to benefit from this networking event are those who have anything to do with the following:</span></span>\n<ul>\n	<li style="font-weight: bold\;"><span style="font-size:14px\;"><span style="font-family:comic sans ms\;"><strong>Special Events&nbsp\;</strong><br />\n	Parties\, Galas\, Weddings\, Rehearsal dinners\, Business seminars\,&nbsp\;Bachelorette parties\, Bridal showers\, Family Reunions\, or other special occasions</span></span></li>\n	<li font-size:="" font-weight:="" goudy="" old="" style="font-family: "><span style="font-size:14px\;"><span style="font-family:comic sans ms\;"><strong>Services such as:</strong></span></span>\n	<ul>\n		<li style="margin: 0in 0in 8pt\; line-height: normal\; font-weight: normal\;"><span style="font-size:14px\;"><span style="font-family:comic sans ms\;"><span style="color: red\;">Caterers</span></span></span></li>\n		<li style="margin: 0in 0in 8pt\; line-height: normal\; font-weight: normal\;"><span style="font-size:14px\;"><span style="font-family:comic sans ms\;"><span style="color: red\;">Lodging</span></span></span></li>\n		<li style="margin: 0in 0in 8pt\; line-height: normal\; font-weight: normal\;"><span style="font-size:14px\;"><span style="font-family:comic sans ms\;"><span style="color: red\;">Music</span></span></span></li>\n		<li style="margin: 0in 0in 8pt\; line-height: normal\; font-weight: normal\;"><span style="font-size:14px\;"><span style="font-family:comic sans ms\;"><span style="color: red\;">Photography</span></span></span></li>\n		<li style="margin: 0in 0in 8pt\; line-height: normal\; font-weight: normal\;"><span style="font-size:14px\;"><span style="font-family:comic sans ms\;"><span style="color: red\;">Salon services</span></span></span></li>\n		<li style="margin: 0in 0in 8pt\; line-height: normal\; font-weight: normal\;"><span style="font-size:14px\;"><span style="font-family:comic sans ms\;"><span style="color: red\;">Spa services</span></span></span></li>\n		<li style="margin: 0in 0in 8pt\; line-height: normal\; font-weight: normal\;"><span style="font-size:14px\;"><span style="font-family:comic sans ms\;"><span style="color: red\;">Limo service</span></span></span></li>\n		<li style="margin: 0in 0in 8pt\; line-height: normal\; font-weight: normal\;"><span style="font-size:14px\;"><span style="font-family:comic sans ms\;"><span style="color: red\;">Wine tastings</span></span></span></li>\n		<li style="margin: 0in 0in 8pt\; line-height: normal\; font-weight: normal\;"><span style="font-size:14px\;"><span style="font-family:comic sans ms\;"><span style="color: red\;">Event Venues</span></span></span></li>\n		<li style="margin: 0in 0in 8pt\; line-height: normal\; font-weight: normal\;"><span style="font-size:14px\;"><span style="font-family:comic sans ms\;"><span style="color: red\;">Decorating</span></span></span></li>\n		<li style="margin: 0in 0in 8pt\; line-height: normal\; font-weight: normal\;"><span style="font-size:14px\;"><span style="font-family:comic sans ms\;"><span style="color: red\;">Promotional items</span></span></span></li>\n		<li style="margin: 0in 0in 8pt\; line-height: normal\; font-weight: normal\;"><span style="font-size:14px\;"><span style="font-family:comic sans ms\;"><span style="color: red\;">Video</span></span></span></li>\n		<li style="margin: 0in 0in 8pt\; line-height: normal\; font-weight: normal\;"><span style="font-size:14px\;"><span style="font-family:comic sans ms\;"><span style="color: red\;">Invitations-</span></span></span></li>\n		<li style="margin: 0in 0in 8pt\; line-height: normal\; font-weight: normal\;"><span style="font-size:14px\;"><span style="font-family:comic sans ms\;"><span style="color: red\;">Florists</span></span></span></li>\n	</ul>\n	</li>\n</ul>\n
LOCATION:Casitas at Madrona Ranch (map) 282 Jewell Rd. Pipe Creek\, TX 78063 (210) 488-7793
UID:e.187.13681
SEQUENCE:3
DTSTAMP:20260422T090200Z
URL:https://business.boerne.org/events/details/special-events-networking-sponsored-by-casitas-at-madrona-ranch-13681
END:VEVENT

END:VCALENDAR
