BEGIN:VCALENDAR
VERSION:2.0
PRODID:-//ChamberMaster//Event Calendar 2.0//EN
METHOD:PUBLISH
X-PUBLISHED-TTL:P3D
REFRESH-INTERVAL:P3D
CALSCALE:GREGORIAN
BEGIN:VEVENT
DTSTART:20170425T170000Z
DTEND:20170425T180000Z
X-MICROSOFT-CDO-ALLDAYEVENT:FALSE
SUMMARY:Special Events Networking Lunch
DESCRIPTION:Special Event Networking Lunch - Come mix and mingle at our FREE lunch meet up. We will also be talking about plans for a new Corporate Event Showcase in August. Registration is FREE but - please register so we have a better head count for the food.\n\n\n\nCall Barbara Hooks at 830-249-8000 with any questions.
X-ALT-DESC;FMTTYPE=text/html:Special Event Networking Lunch - Come mix and mingle at our FREE lunch meet up. We will also be talking about plans for a new Corporate Event Showcase in August. Registration is FREE but - please register so we have a better head count for the food.<br />\n<br />\nCall Barbara Hooks at 830-249-8000 with any questions.
LOCATION:Belleori Homestead 35 Old San Antonio Rd Boerne\, TX 78006
UID:e.187.11584
SEQUENCE:3
DTSTAMP:20260423T054036Z
URL:https://business.boerne.org/events/details/special-events-networking-lunch-11584
END:VEVENT

END:VCALENDAR
