BEGIN:VCALENDAR
VERSION:2.0
PRODID:-//ChamberMaster//Event Calendar 2.0//EN
METHOD:PUBLISH
X-PUBLISHED-TTL:P3D
REFRESH-INTERVAL:P3D
CALSCALE:GREGORIAN
BEGIN:VEVENT
DTSTART:20170627T170000Z
DTEND:20170627T180000Z
X-MICROSOFT-CDO-ALLDAYEVENT:FALSE
SUMMARY:Special Events Networking Lunch
DESCRIPTION:Special Events Group Networking Lunch
X-ALT-DESC;FMTTYPE=text/html:Special Events Group Networking Lunch
LOCATION:Hampton Inn & Suites at Boerne 34935 IH 10 W. Boerne\, TX 78006
UID:e.187.11458
SEQUENCE:3
DTSTAMP:20260423T022452Z
URL:https://business.boerne.org/events/details/special-events-networking-lunch-06-27-2017-11458
END:VEVENT

END:VCALENDAR
