BEGIN:VCALENDAR
VERSION:2.0
PRODID:-//ChamberMaster//Event Calendar 2.0//EN
METHOD:PUBLISH
X-PUBLISHED-TTL:P3D
REFRESH-INTERVAL:P3D
CALSCALE:GREGORIAN
BEGIN:VEVENT
DTSTART:20181017T170000Z
DTEND:20181017T183000Z
X-MICROSOFT-CDO-ALLDAYEVENT:FALSE
SUMMARY:Special Called Board of Directors Meeting
DESCRIPTION:Special Called Board of Directors Meeting
X-ALT-DESC;FMTTYPE=text/html:Special Called Board of Directors Meeting
LOCATION:Greater Boerne Chamber of Commerce 121 S. Main St.\, Boerne\, TX 78006
UID:e.187.15141
SEQUENCE:3
DTSTAMP:20260420T013541Z
URL:https://business.boerne.org/events/details/special-called-board-of-directors-meeting-15141
END:VEVENT

END:VCALENDAR
