BEGIN:VCALENDAR
VERSION:2.0
PRODID:-//ChamberMaster//Event Calendar 2.0//EN
METHOD:PUBLISH
X-PUBLISHED-TTL:P3D
REFRESH-INTERVAL:P3D
CALSCALE:GREGORIAN
BEGIN:VEVENT
DTSTART:20180501T170000Z
DTEND:20180501T183000Z
X-MICROSOFT-CDO-ALLDAYEVENT:FALSE
SUMMARY:Special Board of Directors Meeting
DESCRIPTION:Special Board of Directors Meeting
X-ALT-DESC;FMTTYPE=text/html:Special Board of Directors Meeting
LOCATION:Boerne Chamber of Commerce Conference Room 121 S. Main Street\, Boerne\, TX 78006
UID:e.187.13687
SEQUENCE:3
DTSTAMP:20260422T090126Z
URL:https://business.boerne.org/events/details/special-board-of-directors-meeting-13687
END:VEVENT

END:VCALENDAR
