BEGIN:VCALENDAR
VERSION:2.0
PRODID:-//ChamberMaster//Event Calendar 2.0//EN
METHOD:PUBLISH
X-PUBLISHED-TTL:P3D
REFRESH-INTERVAL:P3D
CALSCALE:GREGORIAN
BEGIN:VEVENT
DTSTART:20250619T233000Z
DTEND:20250620T010000Z
X-MICROSOFT-CDO-ALLDAYEVENT:FALSE
SUMMARY:Sourdough Workshop
DESCRIPTION:Experience a hands-on class at Herff Farm exploring the history\, science\, and techniques of sourdough breadmaking. Led by Andrea Bohn\, this workshop will guide you through every step\, from understanding fermentation to kneading\, shaping\, and baking your own loaf. Perfect for beginners or experienced bakers!\n\nParticipants will receive a kit with:\n\n\n	Mixing bowl\n	Dutch whisk\n	Wooden spoon\n	Kitchen towel\n	A loaf in progress\n	An established sourdough starter\n\n\nBy the end\, you'll leave with a fresh loaf\, a starter for future baking\, and the skills to create delicious sourdough at home.\n\nInstructor: Andrea Bohn
X-ALT-DESC;FMTTYPE=text/html:<p>Experience a hands-on class at Herff Farm exploring the history\, science\, and techniques of sourdough breadmaking. Led by Andrea Bohn\, this workshop will guide you through every step\, from understanding fermentation to kneading\, shaping\, and baking your own loaf. Perfect for beginners or experienced bakers!</p>\n\n<p>Participants will receive a kit with:</p>\n\n<ul>\n	<li>Mixing bowl</li>\n	<li>Dutch whisk</li>\n	<li>Wooden spoon</li>\n	<li>Kitchen towel</li>\n	<li>A loaf in progress</li>\n	<li>An established sourdough starter</li>\n</ul>\n\n<p>By the end\, you&#39\;ll leave with a fresh loaf\, a starter for future baking\, and the skills to create delicious sourdough at home.</p>\n\n<p>Instructor:&nbsp\;Andrea Bohn</p>\n
LOCATION:Hunke Gathering Hall at Herff Farm 33 Herff Road Boerne\, Texas 78006
UID:e.187.29814
SEQUENCE:3
DTSTAMP:20260419T174746Z
URL:https://business.boerne.org/events/details/sourdough-workshop-29814
END:VEVENT

END:VCALENDAR
