BEGIN:VCALENDAR
VERSION:2.0
PRODID:-//ChamberMaster//Event Calendar 2.0//EN
METHOD:PUBLISH
X-PUBLISHED-TTL:P3D
REFRESH-INTERVAL:P3D
CALSCALE:GREGORIAN
BEGIN:VEVENT
DTSTART:20240929T170000Z
DTEND:20240929T193000Z
X-MICROSOFT-CDO-ALLDAYEVENT:FALSE
SUMMARY:Sip and Paint at Singing Water Vineyards
DESCRIPTION:Come alone or bring a group. "Paint the Town" artist studio is leading a fun and interactive painting session for adults at the winery. Visit Singingwater.com for booking information.
X-ALT-DESC;FMTTYPE=text/html:Come alone or bring a group. &quot\;Paint the Town&quot\; artist studio is leading a fun and interactive painting session for adults at the winery. Visit Singingwater.com for booking information.
LOCATION:Singing Water Vineyards
UID:e.187.28670
SEQUENCE:3
DTSTAMP:20260419T192614Z
URL:https://business.boerne.org/events/details/sip-and-paint-at-singing-water-vineyards-28670
END:VEVENT

END:VCALENDAR
