BEGIN:VCALENDAR
VERSION:2.0
PRODID:-//ChamberMaster//Event Calendar 2.0//EN
METHOD:PUBLISH
X-PUBLISHED-TTL:P3D
REFRESH-INTERVAL:P3D
CALSCALE:GREGORIAN
BEGIN:VEVENT
DTSTART:20240919T210000Z
DTEND:20240919T230000Z
X-MICROSOFT-CDO-ALLDAYEVENT:FALSE
SUMMARY:September Boost Boerne Business
DESCRIPTION:The September Boost Boerne Business Networking event is made possible by Boerne Radio 103.9FM\, Hampton Inn & Suites & Clearview Bookkeeping. And since this event happens on The Big Give day\, we are recognizing some local non-profits:  Hill Country Family Services\, Hill Country Pregnancy Care Center\, Hill Country Daily Bread.\n\nHost Location: Hampton Inn & Suites on Thursday September 19th\n\nYou'll enjoy great appetizers and special drinks.\n\nEnjoy gathering with new and old friends as you network with other Boerne Business Owner\, Leaders\, and Marketing Professionals like you\, and hopefully walk away with a great door prize too.\n\n\n	4pm - Check In / Networking\n	4:50pm - Welcome from Boerne Radio's Shan Wiley \n	4:51pm - Welcome from our Host:  Hampton Inn & Suites\n	4:52pm - Speed Networking Exercise\n	5:00pm - Welcome from our Sponsors - Magdalena House\,  Hill Country Pregnancy Care Center\, Hill Country Daily Bread & Boerne Community Theatre\n	5:10pm - Business Wisdom from Clearview Bookkeeping\n	5:20pm - Door Prizes \n	5:30pm - Back To Networking\n\n\nThe event is free\, register \n\nDoor Prizes: Reserve your spot for next month with Shan Wiley at 210-842-5840\n\nDoor Prize minimum value $50 - give your :60 second elevator speech\, pull the ticket\, and hand deliver your prize to the happy winner.
X-ALT-DESC;FMTTYPE=text/html:<p>The September Boost Boerne Business Networking event is made possible by Boerne Radio 103.9FM\, Hampton Inn &amp\; Suites &amp\; Clearview Bookkeeping. And since this event happens on The Big Give day\, we are recognizing some local non-profits:&nbsp\; Hill Country Family Services\, Hill Country Pregnancy Care Center\, Hill Country Daily Bread.</p>\n\n<p><strong>Host Location: Hampton Inn &amp\; Suites on Thursday September 19th</strong></p>\n\n<p>You&#39\;ll enjoy great appetizers and special drinks.</p>\n\n<p>Enjoy gathering with new and old friends as you network with other Boerne Business Owner\, Leaders\, and Marketing Professionals like you\, and hopefully walk away with a great door prize too.</p>\n\n<ul>\n	<li>4pm - Check In / Networking</li>\n	<li>4:50pm - Welcome from Boerne Radio&#39\;s Shan Wiley&nbsp\;</li>\n	<li>4:51pm - Welcome from our Host: &nbsp\;Hampton Inn &amp\; Suites</li>\n	<li>4:52pm - Speed Networking Exercise</li>\n	<li>5:00pm - Welcome from our Sponsors - Magdalena House\, &nbsp\;Hill Country Pregnancy Care Center\, Hill Country Daily Bread &amp\; Boerne Community Theatre</li>\n	<li>5:10pm - Business Wisdom from Clearview Bookkeeping</li>\n	<li>5:20pm - Door Prizes&nbsp\;</li>\n	<li>5:30pm - Back To Networking</li>\n</ul>\n\n<p>The event is free\, register&nbsp\;</p>\n\n<p>Door Prizes: Reserve your spot for next month with Shan Wiley at 210-842-5840</p>\n\n<p>Door Prize minimum value $50 - give your :60 second elevator speech\, pull the ticket\, and hand deliver your prize to the happy winner.</p>\n
LOCATION:34935 I-10 Boerne\, TX 78006
UID:e.187.28631
SEQUENCE:3
DTSTAMP:20260419T180910Z
URL:https://business.boerne.org/events/details/september-boost-boerne-business-28631
END:VEVENT

END:VCALENDAR
