BEGIN:VCALENDAR
VERSION:2.0
PRODID:-//ChamberMaster//Event Calendar 2.0//EN
METHOD:PUBLISH
X-PUBLISHED-TTL:P3D
REFRESH-INTERVAL:P3D
CALSCALE:GREGORIAN
BEGIN:VEVENT
DTSTART:20170309T150000Z
DTEND:20170309T190000Z
X-MICROSOFT-CDO-ALLDAYEVENT:FALSE
SUMMARY:Senior Services Networking Fair
DESCRIPTION:Senior Education Resource Fair
X-ALT-DESC;FMTTYPE=text/html:Senior Education Resource Fair
LOCATION:Patrick Heath Public Library N. Main St.\, Boerne\, TX
UID:e.187.11501
SEQUENCE:3
DTSTAMP:20260423T084138Z
URL:https://business.boerne.org/events/details/senior-services-networking-fair-11501
END:VEVENT

END:VCALENDAR
