BEGIN:VCALENDAR
VERSION:2.0
PRODID:-//ChamberMaster//Event Calendar 2.0//EN
METHOD:PUBLISH
X-PUBLISHED-TTL:P3D
REFRESH-INTERVAL:P3D
CALSCALE:GREGORIAN
BEGIN:VEVENT
DTSTART:20190808T163000Z
DTEND:20190808T180000Z
X-MICROSOFT-CDO-ALLDAYEVENT:FALSE
SUMMARY:Senior Services Network presented by The Alamo Area Agency on Aging
DESCRIPTION:The members of the Senior Services Network meet to provide education\, training\, guidance and advocacy to the senior community. The goal is to continue our member-driven culture by combining ideas\, resources and volunteer service along with the Chamber's professional staff.
X-ALT-DESC;FMTTYPE=text/html:<span style="font-size: 14px\;">The members of the Senior Services Network meet to provide education\, training\, guidance and advocacy to the senior community. The goal is to continue our member-driven culture by combining ideas\, resources and volunteer service along with the Chamber&rsquo\;s professional staff.</span><br />\n&nbsp\;
LOCATION:Kronkosky Place - Rainbow Center 17 Old San Antonio Rd. Boerne\, TX 78006
UID:e.187.16443
SEQUENCE:3
DTSTAMP:20260419T161008Z
URL:https://business.boerne.org/events/details/senior-services-network-presented-by-the-alamo-area-agency-on-aging-16443
END:VEVENT

END:VCALENDAR
