BEGIN:VCALENDAR
VERSION:2.0
PRODID:-//ChamberMaster//Event Calendar 2.0//EN
METHOD:PUBLISH
X-PUBLISHED-TTL:P3D
REFRESH-INTERVAL:P3D
CALSCALE:GREGORIAN
BEGIN:VEVENT
DTSTART:20250410T170000Z
DTEND:20250410T180000Z
X-MICROSOFT-CDO-ALLDAYEVENT:FALSE
SUMMARY:Senior Services Committee Monthly Meeting
DESCRIPTION:Join us for our Senior Services Committee meeting\, a productive and informative networking meeting\, where businesses dedicated to serving our aging community come together to collaborate and share their expertise.  Whether you're in direct healthcare\, senior living\, home care\, or any other industry directly related to our aging population\, this is the chance to connect\, learn\, foster meaningful relationships\, and collectively enhance the quality of life for our senior population.
X-ALT-DESC;FMTTYPE=text/html:<span style="font-family:helvetica\,sans-serif\;">Join us for our Senior Services Committee meeting\, a productive and informative networking meeting\, where businesses dedicated to serving our aging community come together to collaborate and share their expertise.&nbsp\; Whether you&#39\;re in direct healthcare\, senior living\, home care\, or any other industry directly related to our aging population\, this is the chance to connect\, learn\, foster meaningful relationships\, and collectively enhance the quality of life for our senior population.</span>
LOCATION:
UID:e.187.16511
SEQUENCE:3
DTSTAMP:20260419T143447Z
URL:https://business.boerne.org/events/details/senior-services-network-presented-by-lighthouse-for-the-blind-04-10-2025-16511
END:VEVENT

END:VCALENDAR
