BEGIN:VCALENDAR
VERSION:2.0
PRODID:-//ChamberMaster//Event Calendar 2.0//EN
METHOD:PUBLISH
X-PUBLISHED-TTL:P3D
REFRESH-INTERVAL:P3D
CALSCALE:GREGORIAN
BEGIN:VEVENT
DTSTART:20190509T130000Z
DTEND:20190509T170000Z
X-MICROSOFT-CDO-ALLDAYEVENT:FALSE
SUMMARY:Senior Services Network | Nutrition Health Fair
DESCRIPTION:Join the Rainbow Senior Center for thier specail Nutrition Health Fair on May 9th from 8AM-12PM. Meet local health vendors and learn to conquer health concerns\, enhance physical fitness\, financial wellness and nutrition. Networking and connect with area medical professionals.\n\n\n\nThe Senior Services Committee is responsible for the development and review of the Chamber's involvement in strengthening aging services for senior citizens by increasing visibility and effectiveness of its senior programs.\n\n \n\nThe members of the Senior Services Committee meet to provide education\, training\, guidance and advocacy to the senior community. The goal is to continue our member-driven culture by combining ideas\, resources and volunteer service along with the Chamber's professional staff.
X-ALT-DESC;FMTTYPE=text/html:<span style="font-size:14px\;">Join the Rainbow Senior Center for thier specail Nutrition Health Fair on May 9th from 8AM-12PM. Meet local health vendors and learn to conquer health concerns\, enhance physical fitness\, financial wellness and nutrition. Networking and connect with area medical professionals.<br />\n<br />\nThe Senior Services Committee is responsible for the development and review of the Chamber&rsquo\;s involvement in strengthening aging services for senior citizens by increasing visibility and effectiveness of its senior programs.<br />\n&nbsp\;<br />\nThe members of the Senior Services Committee meet to provide education\, training\, guidance and advocacy to the senior community. The goal is to continue our member-driven culture by combining ideas\, resources and volunteer service along with the Chamber&rsquo\;s professional staff.</span>
LOCATION:Kronkosky Place - Rainbow Center 17 Old San Antonio Rd. Boerne\, TX 78006
UID:e.187.14296
SEQUENCE:3
DTSTAMP:20260419T161009Z
URL:https://business.boerne.org/events/details/senior-services-network-nutrition-health-fair-14296
END:VEVENT

END:VCALENDAR
