BEGIN:VCALENDAR
VERSION:2.0
PRODID:-//ChamberMaster//Event Calendar 2.0//EN
METHOD:PUBLISH
X-PUBLISHED-TTL:P3D
REFRESH-INTERVAL:P3D
CALSCALE:GREGORIAN
BEGIN:VEVENT
DTSTART:20170824T163000Z
DTEND:20170824T180000Z
X-MICROSOFT-CDO-ALLDAYEVENT:FALSE
SUMMARY:Senior Services Network
DESCRIPTION:Senior Services Network
X-ALT-DESC;FMTTYPE=text/html:Senior Services Network
LOCATION:Kronkosky Place 17 Old San Antonio Rd Boerne\, TX 78006
UID:e.187.11562
SEQUENCE:3
DTSTAMP:20260422T231315Z
URL:https://business.boerne.org/events/details/senior-services-network-08-24-2017-11562
END:VEVENT

END:VCALENDAR
