BEGIN:VCALENDAR
VERSION:2.0
PRODID:-//ChamberMaster//Event Calendar 2.0//EN
METHOD:PUBLISH
X-PUBLISHED-TTL:P3D
REFRESH-INTERVAL:P3D
CALSCALE:GREGORIAN
BEGIN:VEVENT
DTSTART:20251110T190000Z
DTEND:20251110T200000Z
X-MICROSOFT-CDO-ALLDAYEVENT:FALSE
SUMMARY:SBA Office of Disaster Recovery & Resilience Informational Session
DESCRIPTION:The U.S. Small Business Administration Office of Disaster Recovery & Resilience is hosting an informational session regarding disaster loan assistance.\n\n\n\nMonday\, November 10th\n\n1:00pm - 2:00pm\n\n\n\nThe Greater Boerne Chamber of Commerce\n\n121 S Main St\n\nBoerne\, TX 78006\n\n\n\nTopics include:\n\n\n	Economic injury disaster loans\n	Business physical disaster loans\n	Mitigation\n	Refinancing\n\nSo we can be sure we have space\, I ask that you please RSVP HERE. \n\n\n\nIf you have any questions regarding the session itself\, you can contact Tana Janelle Morehead at Tana.morehead@sba.gov or (202) 875-3576.
X-ALT-DESC;FMTTYPE=text/html:<p style="font-family: Roboto\, sans-serif\; background-color: rgb(240\, 240\, 240)\;">&nbsp\;The U.S. Small Business Administration Office of Disaster Recovery &amp\; Resilience is hosting an informational session regarding disaster loan assistance.<br />\n<br />\nMonday\, November 10th<br />\n1:00pm - 2:00pm<br />\n<br />\nThe Greater Boerne Chamber of Commerce<br />\n121 S Main St<br />\nBoerne\, TX 78006<br />\n<br />\nTopics include:</p>\n\n<ul style="font-family: Roboto\, sans-serif\; background-color: rgb(240\, 240\, 240)\;">\n	<li>Economic injury disaster loans</li>\n	<li>Business physical disaster loans</li>\n	<li>Mitigation</li>\n	<li>Refinancing</li>\n</ul>\n<span style="font-family: Roboto\, sans-serif\; background-color: rgb(240\, 240\, 240)\;">So we can be sure we have space\, I ask that you please&nbsp\;</span><a href="mailto:steely@boerne.org?subject=SBA%20Info%20Session%20RSVP" style="color: rgb(100\, 50\, 130)\; font-family: Roboto\, sans-serif\; background-color: rgb(240\, 240\, 240)\;">RSVP HERE.&nbsp\;</a><br style="font-family: Roboto\, sans-serif\; background-color: rgb(240\, 240\, 240)\;" />\n<br style="font-family: Roboto\, sans-serif\; background-color: rgb(240\, 240\, 240)\;" />\n<span style="font-family: Roboto\, sans-serif\; background-color: rgb(240\, 240\, 240)\;">If you have any questions regarding the session itself\, you can contact Tana Janelle Morehead at&nbsp\;</span><span style="font-family: Roboto\, sans-serif\; background-color: rgb(240\, 240\, 240)\; color: black\;"><span style="font-family: &quot\;times new roman&quot\;\, serif\;"><span style="font-size: 11pt\;"><a href="mailto:Tana.morehead@sba.gov" style="color: rgb(100\, 50\, 130)\;"><span style="color: rgb(5\, 99\, 193)\;">Tana.morehead@sba.gov</span></a>&nbsp\;or (202) 875-3576.</span></span></span>
LOCATION:The Greater Boerne Chamber of Commerce 121 S Main St Boerne\, TX. 78006
UID:e.187.31962
SEQUENCE:3
DTSTAMP:20260420T003552Z
URL:https://business.boerne.org/events/details/sba-office-of-disaster-recovery-resilience-informational-session-31962
END:VEVENT

END:VCALENDAR
