BEGIN:VCALENDAR
VERSION:2.0
PRODID:-//ChamberMaster//Event Calendar 2.0//EN
METHOD:PUBLISH
X-PUBLISHED-TTL:P3D
REFRESH-INTERVAL:P3D
CALSCALE:GREGORIAN
BEGIN:VEVENT
DTSTART:20180328T190000Z
DTEND:20180328T210000Z
X-MICROSOFT-CDO-ALLDAYEVENT:FALSE
SUMMARY:Runners 2:00-4:00
DESCRIPTION:Runners 2-4 Membership Campaign
X-ALT-DESC;FMTTYPE=text/html:Runners 2-4 Membership Campaign
LOCATION:Morningside Ministries at Menger Springs 1100 Grand Blvd Boerne\, TX 78006
UID:e.187.13648
SEQUENCE:3
DTSTAMP:20260422T120528Z
URL:https://business.boerne.org/events/details/runners-2-00-4-00-13648
END:VEVENT

END:VCALENDAR
